BEGIN:VCALENDAR
VERSION:2.0
PRODID:-//Amadys - ECPv6.15.18//NONSGML v1.0//EN
CALSCALE:GREGORIAN
METHOD:PUBLISH
X-ORIGINAL-URL:https://amadys.fr
X-WR-CALDESC:Évènements pour Amadys
REFRESH-INTERVAL;VALUE=DURATION:PT1H
X-Robots-Tag:noindex
X-PUBLISHED-TTL:PT1H
BEGIN:VTIMEZONE
TZID:Europe/Paris
BEGIN:DAYLIGHT
TZOFFSETFROM:+0100
TZOFFSETTO:+0200
TZNAME:CEST
DTSTART:20210328T010000
END:DAYLIGHT
BEGIN:STANDARD
TZOFFSETFROM:+0200
TZOFFSETTO:+0100
TZNAME:CET
DTSTART:20211031T010000
END:STANDARD
BEGIN:DAYLIGHT
TZOFFSETFROM:+0100
TZOFFSETTO:+0200
TZNAME:CEST
DTSTART:20220327T010000
END:DAYLIGHT
BEGIN:STANDARD
TZOFFSETFROM:+0200
TZOFFSETTO:+0100
TZNAME:CET
DTSTART:20221030T010000
END:STANDARD
BEGIN:DAYLIGHT
TZOFFSETFROM:+0100
TZOFFSETTO:+0200
TZNAME:CEST
DTSTART:20230326T010000
END:DAYLIGHT
BEGIN:STANDARD
TZOFFSETFROM:+0200
TZOFFSETTO:+0100
TZNAME:CET
DTSTART:20231029T010000
END:STANDARD
END:VTIMEZONE
BEGIN:VEVENT
DTSTART;TZID=Europe/Paris:20220929T150000
DTEND;TZID=Europe/Paris:20220929T160000
DTSTAMP:20260423T094352
CREATED:20220712T171254Z
LAST-MODIFIED:20220712T171254Z
UID:100163-1664463600-1664467200@amadys.fr
SUMMARY:Permanence Dijon- 29/09/2022
DESCRIPTION:Votre Déléguée\, Marie-France Festeau\, aura le plaisir de vous accueillir de 15h à 16h\, au sein de l’Espace Associations\, rez-de-chaussée\, hall A\, entrée 9\, du CHU de DIJON – 14 rue Gaffarel.\n \n  \nN’hésitez pas à lui rendre visite et à échanger ! \nVotre équipe AMADYS \n 
URL:https://amadys.fr/agenda/permanence-dijon-29-09-2022/
LOCATION:CHU Dijon Bourgogne\, 14 rue Paul Gaffarel\, Dijon\, 21000\, France
CATEGORIES:Permanences Amadys
ATTACH;FMTTYPE=image/jpeg:https://amadys.fr/wp-content/uploads/2015/07/IMAGE-DIJON-1.jpg
ORGANIZER;CN="Amadys":MAILTO:secretariat.amadys@amadys.fr
END:VEVENT
END:VCALENDAR