BEGIN:VCALENDAR
VERSION:2.0
PRODID:-//Amadys - ECPv6.15.18//NONSGML v1.0//EN
CALSCALE:GREGORIAN
METHOD:PUBLISH
X-ORIGINAL-URL:https://amadys.fr
X-WR-CALDESC:Évènements pour Amadys
REFRESH-INTERVAL;VALUE=DURATION:PT1H
X-Robots-Tag:noindex
X-PUBLISHED-TTL:PT1H
BEGIN:VTIMEZONE
TZID:Europe/Paris
BEGIN:DAYLIGHT
TZOFFSETFROM:+0100
TZOFFSETTO:+0200
TZNAME:CEST
DTSTART:20210328T010000
END:DAYLIGHT
BEGIN:STANDARD
TZOFFSETFROM:+0200
TZOFFSETTO:+0100
TZNAME:CET
DTSTART:20211031T010000
END:STANDARD
BEGIN:DAYLIGHT
TZOFFSETFROM:+0100
TZOFFSETTO:+0200
TZNAME:CEST
DTSTART:20220327T010000
END:DAYLIGHT
BEGIN:STANDARD
TZOFFSETFROM:+0200
TZOFFSETTO:+0100
TZNAME:CET
DTSTART:20221030T010000
END:STANDARD
BEGIN:DAYLIGHT
TZOFFSETFROM:+0100
TZOFFSETTO:+0200
TZNAME:CEST
DTSTART:20230326T010000
END:DAYLIGHT
BEGIN:STANDARD
TZOFFSETFROM:+0200
TZOFFSETTO:+0100
TZNAME:CET
DTSTART:20231029T010000
END:STANDARD
END:VTIMEZONE
BEGIN:VEVENT
DTSTART;VALUE=DATE:20221201
DTEND;VALUE=DATE:20230101
DTSTAMP:20260423T042855
CREATED:20221201T182749Z
LAST-MODIFIED:20221201T182749Z
UID:100782-1669852800-1672531199@amadys.fr
SUMMARY:Accueil des malades atteints de Dystonie - Clermont-Ferrand
DESCRIPTION:Accueil des malades atteints de Dystonie – Clermont-Ferrand  \nLes Délégués Auvergne se tiennent à la disposition des patients\, les jours de vos injections de toxine botulinique\, au CHU Gabriel-Montpied. \nIls sont disponibles pour venir rencontrer les malades. \nPour tout rendez-vous ou information\, vous pouvez contacter : \n     Sylvie Muzyka \n07 67 86 71 50 \nMichel D’Angelo \n06 95 23 31 73 \n  \n  \n  \n 
URL:https://amadys.fr/agenda/accueil-des-malades-atteints-de-dystonie-clermont-ferrand-4/
LOCATION:58 rue Montalembert\, 63000 Clermont-Ferrand\, 58 rue Montalembert\, Clermont-Ferrand\, 63000\, France Métropolitaine
CATEGORIES:Permanences Amadys
ATTACH;FMTTYPE=image/jpeg:https://amadys.fr/wp-content/uploads/2017/03/clermont-place-de-la-victoire.jpg
ORGANIZER;CN="Amadys":MAILTO:secretariat.amadys@amadys.fr
END:VEVENT
BEGIN:VEVENT
DTSTART;TZID=Europe/Paris:20221212T133000
DTEND;TZID=Europe/Paris:20221212T163000
DTSTAMP:20260423T042855
CREATED:20221011T125820Z
LAST-MODIFIED:20221011T125820Z
UID:100566-1670851800-1670862600@amadys.fr
SUMMARY:Permanence Lyon - 12/12/2022
DESCRIPTION:Vos délégués\, Béatrice Liard et Michel Lévêque\, auront le plaisir de vous accueillir de 13h30 à 16h30 \n  \nN’hésitez pas à leur rendre visite et à échanger ! \nVotre équipe AMADYS \n  \nPlus d’infos : Béatrice Liard\, 06 71 61 60 72\, liard.beatrice@orange.fr
URL:https://amadys.fr/agenda/permanence-lyon-12-12-2022/
LOCATION:Hôpital Neurologique\, 59 Boulevard Pinel\, Lyon Bron\, 69677\, France
CATEGORIES:Permanences Amadys
ATTACH;FMTTYPE=image/jpeg:https://amadys.fr/wp-content/uploads/2017/01/Photo-Ville-de-Lyon-720x340-624x295.jpg
ORGANIZER;CN="Amadys":MAILTO:secretariat.amadys@amadys.fr
END:VEVENT
BEGIN:VEVENT
DTSTART;TZID=Europe/Paris:20221215T150000
DTEND;TZID=Europe/Paris:20221215T160000
DTSTAMP:20260423T042855
CREATED:20221009T120418Z
LAST-MODIFIED:20221009T120418Z
UID:100519-1671116400-1671120000@amadys.fr
SUMMARY:Permanence Dijon- 15/12/2022
DESCRIPTION:Votre Déléguée\, Marie-France Festeau\, aura le plaisir de vous accueillir de 15h à 16h\, au sein de l’Espace Associations\, rez-de-chaussée\, hall A\, entrée 9\, du CHU de DIJON – 14 rue Gaffarel.\n \n  \nN’hésitez pas à lui rendre visite et à échanger ! \nVotre équipe AMADYS \n 
URL:https://amadys.fr/agenda/permanence-dijon-15-12-2022/
LOCATION:CHU Dijon Bourgogne\, 14 rue Paul Gaffarel\, Dijon\, 21000\, France
CATEGORIES:Permanences Amadys
ATTACH;FMTTYPE=image/jpeg:https://amadys.fr/wp-content/uploads/2015/07/IMAGE-DIJON-1.jpg
ORGANIZER;CN="Amadys":MAILTO:secretariat.amadys@amadys.fr
END:VEVENT
END:VCALENDAR