BEGIN:VCALENDAR
VERSION:2.0
PRODID:-//Amadys - ECPv6.15.18//NONSGML v1.0//EN
CALSCALE:GREGORIAN
METHOD:PUBLISH
X-ORIGINAL-URL:https://amadys.fr
X-WR-CALDESC:Évènements pour Amadys
REFRESH-INTERVAL;VALUE=DURATION:PT1H
X-Robots-Tag:noindex
X-PUBLISHED-TTL:PT1H
BEGIN:VTIMEZONE
TZID:Europe/Paris
BEGIN:DAYLIGHT
TZOFFSETFROM:+0100
TZOFFSETTO:+0200
TZNAME:CEST
DTSTART:20220327T010000
END:DAYLIGHT
BEGIN:STANDARD
TZOFFSETFROM:+0200
TZOFFSETTO:+0100
TZNAME:CET
DTSTART:20221030T010000
END:STANDARD
BEGIN:DAYLIGHT
TZOFFSETFROM:+0100
TZOFFSETTO:+0200
TZNAME:CEST
DTSTART:20230326T010000
END:DAYLIGHT
BEGIN:STANDARD
TZOFFSETFROM:+0200
TZOFFSETTO:+0100
TZNAME:CET
DTSTART:20231029T010000
END:STANDARD
BEGIN:DAYLIGHT
TZOFFSETFROM:+0100
TZOFFSETTO:+0200
TZNAME:CEST
DTSTART:20240331T010000
END:DAYLIGHT
BEGIN:STANDARD
TZOFFSETFROM:+0200
TZOFFSETTO:+0100
TZNAME:CET
DTSTART:20241027T010000
END:STANDARD
END:VTIMEZONE
BEGIN:VEVENT
DTSTART;VALUE=DATE:20230227
DTEND;VALUE=DATE:20230304
DTSTAMP:20260422T231134
CREATED:20230130T150004Z
LAST-MODIFIED:20230130T150004Z
UID:101150-1677456000-1677887999@amadys.fr
SUMMARY:Accueil des malades atteints de Dystonie - Clermont-Ferrand - 27/02 au 03/03/23
DESCRIPTION:Accueil des malades atteints de Dystonie – Clermont-Ferrand  \nLes Délégués Auvergne se tiennent à la disposition des patients\, les jours de vos injections de toxine botulinique\, au CHU Gabriel-Montpied. \nIls sont disponibles pour venir rencontrer les malades. \nPour tout rendez-vous ou information\, vous pouvez contacter : \n     Sylvie Muzyka \n07 67 86 71 50 \nMichel D’Angelo \n06 95 23 31 73 \n  \n  \n  \n 
URL:https://amadys.fr/agenda/accueil-des-malades-atteints-de-dystonie-clermont-ferrand-27-02-au-03-03-23/
LOCATION:58 rue Montalembert\, 63000 Clermont-Ferrand\, 58 rue Montalembert\, Clermont-Ferrand\, 63000\, France Métropolitaine
CATEGORIES:Permanences Amadys
ATTACH;FMTTYPE=image/jpeg:https://amadys.fr/wp-content/uploads/2017/03/clermont-place-de-la-victoire.jpg
END:VEVENT
BEGIN:VEVENT
DTSTART;TZID=Europe/Paris:20230302T150000
DTEND;TZID=Europe/Paris:20230302T160000
DTSTAMP:20260422T231134
CREATED:20221219T123616Z
LAST-MODIFIED:20221219T123659Z
UID:100862-1677769200-1677772800@amadys.fr
SUMMARY:Permanence Dijon- 02/03/2023
DESCRIPTION:Votre Déléguée\, Marie-France Festeau\, aura le plaisir de vous accueillir de 15h à 16h\, au sein de l’Espace Associations\, rez-de-chaussée\, hall A du Bocage central\, entrée 9\, du CHU de DIJON – 14 rue Gaffarel.\n \n  \nN’hésitez pas à lui rendre visite et à échanger ! \nVotre équipe AMADYS \n 
URL:https://amadys.fr/agenda/permanence-dijon-02-03-2023/
LOCATION:CHU Dijon Bourgogne\, 14 rue Paul Gaffarel\, Dijon\, 21000\, France
CATEGORIES:Permanences Amadys
ATTACH;FMTTYPE=image/jpeg:https://amadys.fr/wp-content/uploads/2015/07/IMAGE-DIJON-1.jpg
ORGANIZER;CN="Amadys":MAILTO:secretariat.amadys@amadys.fr
END:VEVENT
BEGIN:VEVENT
DTSTART;VALUE=DATE:20230306
DTEND;VALUE=DATE:20230311
DTSTAMP:20260422T231134
CREATED:20230306T144330Z
LAST-MODIFIED:20230306T144330Z
UID:101415-1678060800-1678492799@amadys.fr
SUMMARY:Accueil des malades atteints de Dystonie - Clermont-Ferrand - 06 au 10/03/23
DESCRIPTION:Accueil des malades atteints de Dystonie – Clermont-Ferrand  \nLes Délégués Auvergne se tiennent à la disposition des patients\, les jours de vos injections de toxine botulinique\, au CHU Gabriel-Montpied. \nIls sont disponibles pour venir rencontrer les malades. \nPour tout rendez-vous ou information\, vous pouvez contacter : \n     Sylvie Muzyka \n07 67 86 71 50 \nMichel D’Angelo \n06 95 23 31 73 \n  \n  \n  \n 
URL:https://amadys.fr/agenda/accueil-des-malades-atteints-de-dystonie-clermont-ferrand-06-au-10-03-23/
LOCATION:58 rue Montalembert\, 63000 Clermont-Ferrand\, 58 rue Montalembert\, Clermont-Ferrand\, 63000\, France Métropolitaine
CATEGORIES:Permanences Amadys
ATTACH;FMTTYPE=image/jpeg:https://amadys.fr/wp-content/uploads/2017/03/clermont-place-de-la-victoire.jpg
END:VEVENT
BEGIN:VEVENT
DTSTART;VALUE=DATE:20230313
DTEND;VALUE=DATE:20230318
DTSTAMP:20260422T231134
CREATED:20230306T144557Z
LAST-MODIFIED:20230306T144557Z
UID:101418-1678665600-1679097599@amadys.fr
SUMMARY:Accueil des malades atteints de Dystonie - Clermont-Ferrand - 13 au 17/03/23
DESCRIPTION:Accueil des malades atteints de Dystonie – Clermont-Ferrand  \nLes Délégués Auvergne se tiennent à la disposition des patients\, les jours de vos injections de toxine botulinique\, au CHU Gabriel-Montpied. \nIls sont disponibles pour venir rencontrer les malades. \nPour tout rendez-vous ou information\, vous pouvez contacter : \n     Sylvie Muzyka \n07 67 86 71 50 \nMichel D’Angelo \n06 95 23 31 73 \n  \n  \n  \n 
URL:https://amadys.fr/agenda/accueil-des-malades-atteints-de-dystonie-clermont-ferrand-13-au-17-03-23/
LOCATION:58 rue Montalembert\, 63000 Clermont-Ferrand\, 58 rue Montalembert\, Clermont-Ferrand\, 63000\, France Métropolitaine
CATEGORIES:Permanences Amadys
ATTACH;FMTTYPE=image/jpeg:https://amadys.fr/wp-content/uploads/2017/03/clermont-place-de-la-victoire.jpg
END:VEVENT
BEGIN:VEVENT
DTSTART;TZID=Europe/Paris:20230317T140000
DTEND;TZID=Europe/Paris:20230317T173000
DTSTAMP:20260422T231134
CREATED:20230212T173912Z
LAST-MODIFIED:20230501T122430Z
UID:101263-1679061600-1679074200@amadys.fr
SUMMARY:Permanence Dunkerque - 17/03/2023
DESCRIPTION:Votre déléguée\, Chantal Guérin\, vous accueillera de 14h à 17h30\, au sein de la Maison des Usagers\, 1er étage de l’établissement. N’hésitez pas à aller à sa rencontre.
URL:https://amadys.fr/agenda/permanence-dunkerque-17-03-2023/
LOCATION:Centre Hospitalier de Dunkerque\, 130\, avenue Louis Herbeaux\, Dunkerque\, 59385\, France
CATEGORIES:Permanences Amadys
ATTACH;FMTTYPE=image/jpeg:https://amadys.fr/wp-content/uploads/2023/05/dunkerque.jpg
END:VEVENT
BEGIN:VEVENT
DTSTART;TZID=Europe/Paris:20230320T133000
DTEND;TZID=Europe/Paris:20230320T163000
DTSTAMP:20260422T231134
CREATED:20221203T151333Z
LAST-MODIFIED:20221203T151333Z
UID:100790-1679319000-1679329800@amadys.fr
SUMMARY:Permanence Lyon - 20/03/2023
DESCRIPTION:Vos délégués\, Béatrice Liard et Michel Lévêque\, auront le plaisir de vous accueillir de 13h30 à 16h30 \n  \nN’hésitez pas à leur rendre visite et à échanger ! \nVotre équipe AMADYS \n  \nPlus d’infos : Béatrice Liard\, 06 71 61 60 72\, liard.beatrice@orange.fr
URL:https://amadys.fr/agenda/permanence-lyon-20-03-2023/
LOCATION:Hôpital Neurologique\, 59 Boulevard Pinel\, Lyon Bron\, 69677\, France
CATEGORIES:Permanences Amadys
ATTACH;FMTTYPE=image/jpeg:https://amadys.fr/wp-content/uploads/2017/01/Photo-Ville-de-Lyon-720x340-624x295.jpg
ORGANIZER;CN="Amadys":MAILTO:secretariat.amadys@amadys.fr
END:VEVENT
BEGIN:VEVENT
DTSTART;TZID=Europe/Paris:20230321T090000
DTEND;TZID=Europe/Paris:20230321T120000
DTSTAMP:20260422T231134
CREATED:20230311T114227Z
LAST-MODIFIED:20230311T121132Z
UID:101490-1679389200-1679400000@amadys.fr
SUMMARY:Permanence Chambray-lès-Tours - 21/03/2023
DESCRIPTION:Votre déléguée\, Guylaine Cormier-Teyssier accueillera les malades et aidants\, lors d’une permanence qui se déroulera le mardi 21 mars 2023\, de 9h à 12h\, au Pôle Santé Léonard de Vinci bâtiment Le Colisée. \nN’hésitez pas à aller à sa rencontre.
URL:https://amadys.fr/agenda/permanence-chambray-les-tours-21-03-2023/
LOCATION:Pôle Santé Léonard de Vinci\, 1\, Avenue du Professeur Alexandre Minkowski\, Chambray-lès-Tours\, 37170
CATEGORIES:Permanences Amadys
ATTACH;FMTTYPE=image/jpeg:https://amadys.fr/wp-content/uploads/2023/03/chambray-les-tours.jpg
ORGANIZER;CN="Amadys":MAILTO:secretariat.amadys@amadys.fr
END:VEVENT
END:VCALENDAR