BEGIN:VCALENDAR
VERSION:2.0
PRODID:-//Amadys - ECPv6.15.18//NONSGML v1.0//EN
CALSCALE:GREGORIAN
METHOD:PUBLISH
X-WR-CALNAME:Amadys
X-ORIGINAL-URL:https://amadys.fr
X-WR-CALDESC:Évènements pour Amadys
REFRESH-INTERVAL;VALUE=DURATION:PT1H
X-Robots-Tag:noindex
X-PUBLISHED-TTL:PT1H
BEGIN:VTIMEZONE
TZID:Europe/Paris
BEGIN:DAYLIGHT
TZOFFSETFROM:+0100
TZOFFSETTO:+0200
TZNAME:CEST
DTSTART:20220327T010000
END:DAYLIGHT
BEGIN:STANDARD
TZOFFSETFROM:+0200
TZOFFSETTO:+0100
TZNAME:CET
DTSTART:20221030T010000
END:STANDARD
BEGIN:DAYLIGHT
TZOFFSETFROM:+0100
TZOFFSETTO:+0200
TZNAME:CEST
DTSTART:20230326T010000
END:DAYLIGHT
BEGIN:STANDARD
TZOFFSETFROM:+0200
TZOFFSETTO:+0100
TZNAME:CET
DTSTART:20231029T010000
END:STANDARD
BEGIN:DAYLIGHT
TZOFFSETFROM:+0100
TZOFFSETTO:+0200
TZNAME:CEST
DTSTART:20240331T010000
END:DAYLIGHT
BEGIN:STANDARD
TZOFFSETFROM:+0200
TZOFFSETTO:+0100
TZNAME:CET
DTSTART:20241027T010000
END:STANDARD
END:VTIMEZONE
BEGIN:VEVENT
DTSTART;VALUE=DATE:20231127
DTEND;VALUE=DATE:20231202
DTSTAMP:20260420T080137
CREATED:20231029T163730Z
LAST-MODIFIED:20231029T163730Z
UID:102281-1701043200-1701475199@amadys.fr
SUMMARY:Accueil des malades atteints de Dystonie - Clermont-Ferrand - 27/11 au 01/12/2023
DESCRIPTION:Accueil des malades atteints de Dystonie – Clermont-Ferrand  \nLes Délégués Auvergne se tiennent à la disposition des patients\, les jours de vos injections de toxine botulinique\, au CHU Gabriel-Montpied. \nIls sont disponibles pour venir rencontrer les malades. \n \nPour tout rendez-vous ou information\, vous pouvez contacter : \n     Sylvie Muzyka \n07 67 86 71 50 \nMichel D’Angelo \n06 95 23 31 73 \n  \n 
URL:https://amadys.fr/agenda/accueil-des-malades-atteints-de-dystonie-clermont-ferrand-27-11-au-01-12-2023/
LOCATION:58 rue Montalembert\, 63000 Clermont-Ferrand\, 58 rue Montalembert\, Clermont-Ferrand\, 63000\, France Métropolitaine
CATEGORIES:Permanences Amadys
ATTACH;FMTTYPE=image/jpeg:https://amadys.fr/wp-content/uploads/2017/03/clermont-place-de-la-victoire.jpg
ORGANIZER;CN="Amadys":MAILTO:secretariat.amadys@amadys.fr
END:VEVENT
BEGIN:VEVENT
DTSTART;VALUE=DATE:20231204
DTEND;VALUE=DATE:20231209
DTSTAMP:20260420T080137
CREATED:20231125T120715Z
LAST-MODIFIED:20231125T120715Z
UID:102344-1701648000-1702079999@amadys.fr
SUMMARY:Accueil des malades atteints de Dystonie - Clermont-Ferrand - 04 au 08/12/2023
DESCRIPTION:Accueil des malades atteints de Dystonie – Clermont-Ferrand  \nLes Délégués Auvergne se tiennent à la disposition des patients\, les jours de vos injections de toxine botulinique\, au CHU Gabriel-Montpied. \nIls sont disponibles pour venir rencontrer les malades. \n \nPour tout rendez-vous ou information\, vous pouvez contacter : \n     Sylvie Muzyka \n07 67 86 71 50 \nMichel D’Angelo \n06 95 23 31 73 \n  \n 
URL:https://amadys.fr/agenda/accueil-des-malades-atteints-de-dystonie-clermont-ferrand-04-au-08-12-2023/
LOCATION:58 rue Montalembert\, 63000 Clermont-Ferrand\, 58 rue Montalembert\, Clermont-Ferrand\, 63000\, France Métropolitaine
CATEGORIES:Permanences Amadys
ATTACH;FMTTYPE=image/jpeg:https://amadys.fr/wp-content/uploads/2017/03/clermont-place-de-la-victoire.jpg
ORGANIZER;CN="Amadys":MAILTO:secretariat.amadys@amadys.fr
END:VEVENT
BEGIN:VEVENT
DTSTART;TZID=Europe/Paris:20231205T090000
DTEND;TZID=Europe/Paris:20231205T130000
DTSTAMP:20260420T080137
CREATED:20231110T162135Z
LAST-MODIFIED:20231110T162135Z
UID:102312-1701766800-1701781200@amadys.fr
SUMMARY:Permanence Chambray-lès-Tours - 05/12/2023
DESCRIPTION:Votre déléguée\, Guylaine Cormier-Teyssier accueillera les malades et aidants\, lors d’une permanence qui se déroulera  de 9h à 13h\, au Pôle Santé Léonard de Vinci bâtiment Le Colisée\,1\, Avenue du Professeur Alexandre Minkowski\, à Chambray-lès-Tours.\n \nN’hésitez pas à aller à sa rencontre.
URL:https://amadys.fr/agenda/permanence-chambray-les-tours-05-12-2023/
LOCATION:Pôle Santé Léonard de Vinci\, 1\, Avenue du Professeur Alexandre Minkowski\, Chambray-lès-Tours\, 37170
CATEGORIES:Permanences Amadys
ATTACH;FMTTYPE=image/jpeg:https://amadys.fr/wp-content/uploads/2023/03/chambray-les-tours.jpg
ORGANIZER;CN="Amadys":MAILTO:secretariat.amadys@amadys.fr
END:VEVENT
BEGIN:VEVENT
DTSTART;VALUE=DATE:20231211
DTEND;VALUE=DATE:20231216
DTSTAMP:20260420T080137
CREATED:20231125T120905Z
LAST-MODIFIED:20231125T120905Z
UID:102346-1702252800-1702684799@amadys.fr
SUMMARY:Accueil des malades atteints de Dystonie - Clermont-Ferrand - 11 au 15/12/2023
DESCRIPTION:Accueil des malades atteints de Dystonie – Clermont-Ferrand  \nLes Délégués Auvergne se tiennent à la disposition des patients\, les jours de vos injections de toxine botulinique\, au CHU Gabriel-Montpied. \nIls sont disponibles pour venir rencontrer les malades. \n \nPour tout rendez-vous ou information\, vous pouvez contacter : \n     Sylvie Muzyka \n07 67 86 71 50 \nMichel D’Angelo \n06 95 23 31 73 \n  \n 
URL:https://amadys.fr/agenda/accueil-des-malades-atteints-de-dystonie-clermont-ferrand-11-au-15-12-2023/
LOCATION:58 rue Montalembert\, 63000 Clermont-Ferrand\, 58 rue Montalembert\, Clermont-Ferrand\, 63000\, France Métropolitaine
CATEGORIES:Permanences Amadys
ATTACH;FMTTYPE=image/jpeg:https://amadys.fr/wp-content/uploads/2017/03/clermont-place-de-la-victoire.jpg
ORGANIZER;CN="Amadys":MAILTO:secretariat.amadys@amadys.fr
END:VEVENT
BEGIN:VEVENT
DTSTART;TZID=Europe/Paris:20231211T133000
DTEND;TZID=Europe/Paris:20231211T163000
DTSTAMP:20260420T080137
CREATED:20230625T155923Z
LAST-MODIFIED:20231116T151938Z
UID:101911-1702301400-1702312200@amadys.fr
SUMMARY:Permanence Lyon - 11/12/2023
DESCRIPTION:Vos délégués\, Béatrice Liard et Michel Lévêque\, auront le plaisir de vous accueillir de 13h30 à 16h30 \n  \nN’hésitez pas à leur rendre visite et à échanger ! \nVotre équipe AMADYS \n  \nPlus d’infos : Béatrice Liard\, 06 71 61 60 72\, liard.beatrice@orange.fr
URL:https://amadys.fr/agenda/permanence-lyon-11-12-2023/
LOCATION:Hôpital Neurologique\, 59 Boulevard Pinel\, Lyon Bron\, 69677\, France
CATEGORIES:Permanences Amadys
ATTACH;FMTTYPE=image/jpeg:https://amadys.fr/wp-content/uploads/2017/01/Photo-Ville-de-Lyon-720x340-624x295.jpg
ORGANIZER;CN="Amadys":MAILTO:secretariat.amadys@amadys.fr
END:VEVENT
BEGIN:VEVENT
DTSTART;TZID=Europe/Paris:20231211T143000
DTEND;TZID=Europe/Paris:20231211T153000
DTSTAMP:20260420T080137
CREATED:20231125T115849Z
LAST-MODIFIED:20231125T115849Z
UID:102340-1702305000-1702308600@amadys.fr
SUMMARY:Permanence Dijon- 11/12/2023
DESCRIPTION:Votre Déléguée\, Marie-France Festeau\, aura le plaisir de vous accueillir de 14h30 à 15h30\, au sein de l’Espace Associations\, rez-de-chaussée\, hall A du Bocage central\, entrée 9\, du CHU de DIJON – 14 rue Gaffarel.\n \n  \nN’hésitez pas à lui rendre visite et à échanger ! \nVotre équipe AMADYS \n 
URL:https://amadys.fr/agenda/permanence-dijon-11-12-2023/
LOCATION:CHU Dijon Bourgogne\, 14 rue Paul Gaffarel\, Dijon\, 21000\, France
CATEGORIES:Permanences Amadys
ATTACH;FMTTYPE=image/jpeg:https://amadys.fr/wp-content/uploads/2015/07/IMAGE-DIJON-1.jpg
ORGANIZER;CN="Amadys":MAILTO:secretariat.amadys@amadys.fr
END:VEVENT
BEGIN:VEVENT
DTSTART;VALUE=DATE:20231218
DTEND;VALUE=DATE:20231223
DTSTAMP:20260420T080137
CREATED:20231125T121104Z
LAST-MODIFIED:20231125T121104Z
UID:102348-1702857600-1703289599@amadys.fr
SUMMARY:Accueil des malades atteints de Dystonie - Clermont-Ferrand - 18 au 22/12/2023
DESCRIPTION:Accueil des malades atteints de Dystonie – Clermont-Ferrand  \nLes Délégués Auvergne se tiennent à la disposition des patients\, les jours de vos injections de toxine botulinique\, au CHU Gabriel-Montpied. \nIls sont disponibles pour venir rencontrer les malades. \n \nPour tout rendez-vous ou information\, vous pouvez contacter : \n     Sylvie Muzyka \n07 67 86 71 50 \nMichel D’Angelo \n06 95 23 31 73 \n  \n 
URL:https://amadys.fr/agenda/accueil-des-malades-atteints-de-dystonie-clermont-ferrand-18-au-22-12-2023/
LOCATION:58 rue Montalembert\, 63000 Clermont-Ferrand\, 58 rue Montalembert\, Clermont-Ferrand\, 63000\, France Métropolitaine
CATEGORIES:Permanences Amadys
ATTACH;FMTTYPE=image/jpeg:https://amadys.fr/wp-content/uploads/2017/03/clermont-place-de-la-victoire.jpg
ORGANIZER;CN="Amadys":MAILTO:secretariat.amadys@amadys.fr
END:VEVENT
BEGIN:VEVENT
DTSTART;TZID=Europe/Paris:20231222T140000
DTEND;TZID=Europe/Paris:20231222T163000
DTSTAMP:20260420T080137
CREATED:20231125T115259Z
LAST-MODIFIED:20231125T115259Z
UID:102338-1703253600-1703262600@amadys.fr
SUMMARY:Permanence Dunkerque - 22/12/2023
DESCRIPTION:Vos déléguées\, Chantal Guérin et Danye Chalon\, vous accueilleront de 14h à 16h30\, au sein de la Maison des Usagers\, 1er étage de l’établissement. N’hésitez pas à aller à leur rencontre.
URL:https://amadys.fr/agenda/permanence-dunkerque-22-12-2023/
LOCATION:Centre Hospitalier de Dunkerque\, 130\, avenue Louis Herbeaux\, Dunkerque\, 59385\, France
CATEGORIES:Permanences Amadys
ATTACH;FMTTYPE=image/jpeg:https://amadys.fr/wp-content/uploads/2023/05/dunkerque.jpg
END:VEVENT
BEGIN:VEVENT
DTSTART;VALUE=DATE:20231226
DTEND;VALUE=DATE:20231230
DTSTAMP:20260420T080137
CREATED:20231125T121258Z
LAST-MODIFIED:20231125T121258Z
UID:102350-1703548800-1703894399@amadys.fr
SUMMARY:Accueil des malades atteints de Dystonie - Clermont-Ferrand - 26 au 29/12/2023
DESCRIPTION:Accueil des malades atteints de Dystonie – Clermont-Ferrand  \nLes Délégués Auvergne se tiennent à la disposition des patients\, les jours de vos injections de toxine botulinique\, au CHU Gabriel-Montpied. \nIls sont disponibles pour venir rencontrer les malades. \n \nPour tout rendez-vous ou information\, vous pouvez contacter : \n     Sylvie Muzyka \n07 67 86 71 50 \nMichel D’Angelo \n06 95 23 31 73 \n  \n 
URL:https://amadys.fr/agenda/accueil-des-malades-atteints-de-dystonie-clermont-ferrand-26-au-29-12-2023/
LOCATION:58 rue Montalembert\, 63000 Clermont-Ferrand\, 58 rue Montalembert\, Clermont-Ferrand\, 63000\, France Métropolitaine
CATEGORIES:Permanences Amadys
ATTACH;FMTTYPE=image/jpeg:https://amadys.fr/wp-content/uploads/2017/03/clermont-place-de-la-victoire.jpg
ORGANIZER;CN="Amadys":MAILTO:secretariat.amadys@amadys.fr
END:VEVENT
END:VCALENDAR