BEGIN:VCALENDAR
VERSION:2.0
PRODID:-//Amadys - ECPv6.15.18//NONSGML v1.0//EN
CALSCALE:GREGORIAN
METHOD:PUBLISH
X-WR-CALNAME:Amadys
X-ORIGINAL-URL:https://amadys.fr
X-WR-CALDESC:Évènements pour Amadys
REFRESH-INTERVAL;VALUE=DURATION:PT1H
X-Robots-Tag:noindex
X-PUBLISHED-TTL:PT1H
BEGIN:VTIMEZONE
TZID:Europe/Paris
BEGIN:DAYLIGHT
TZOFFSETFROM:+0100
TZOFFSETTO:+0200
TZNAME:CEST
DTSTART:20230326T010000
END:DAYLIGHT
BEGIN:STANDARD
TZOFFSETFROM:+0200
TZOFFSETTO:+0100
TZNAME:CET
DTSTART:20231029T010000
END:STANDARD
BEGIN:DAYLIGHT
TZOFFSETFROM:+0100
TZOFFSETTO:+0200
TZNAME:CEST
DTSTART:20240331T010000
END:DAYLIGHT
BEGIN:STANDARD
TZOFFSETFROM:+0200
TZOFFSETTO:+0100
TZNAME:CET
DTSTART:20241027T010000
END:STANDARD
BEGIN:DAYLIGHT
TZOFFSETFROM:+0100
TZOFFSETTO:+0200
TZNAME:CEST
DTSTART:20250330T010000
END:DAYLIGHT
BEGIN:STANDARD
TZOFFSETFROM:+0200
TZOFFSETTO:+0100
TZNAME:CET
DTSTART:20251026T010000
END:STANDARD
END:VTIMEZONE
BEGIN:VEVENT
DTSTART;VALUE=DATE:20240102
DTEND;VALUE=DATE:20240106
DTSTAMP:20260420T061049
CREATED:20231125T122156Z
LAST-MODIFIED:20231125T122156Z
UID:102352-1704153600-1704499199@amadys.fr
SUMMARY:Accueil des malades atteints de Dystonie - Clermont-Ferrand - 02 au 05/01/2024
DESCRIPTION:Accueil des malades atteints de Dystonie – Clermont-Ferrand  \nLes Délégués Auvergne se tiennent à la disposition des patients\, les jours de vos injections de toxine botulinique\, au CHU Gabriel-Montpied. \nIls sont disponibles pour venir rencontrer les malades. \n \nPour tout rendez-vous ou information\, vous pouvez contacter : \n     Sylvie Muzyka \n07 67 86 71 50 \nMichel D’Angelo \n06 95 23 31 73 \n  \n 
URL:https://amadys.fr/agenda/accueil-des-malades-atteints-de-dystonie-clermont-ferrand-02-au-05-01-2024/
LOCATION:58 rue Montalembert\, 63000 Clermont-Ferrand\, 58 rue Montalembert\, Clermont-Ferrand\, 63000\, France Métropolitaine
CATEGORIES:Permanences Amadys
ATTACH;FMTTYPE=image/jpeg:https://amadys.fr/wp-content/uploads/2017/03/clermont-place-de-la-victoire.jpg
ORGANIZER;CN="Amadys":MAILTO:secretariat.amadys@amadys.fr
END:VEVENT
BEGIN:VEVENT
DTSTART;VALUE=DATE:20240108
DTEND;VALUE=DATE:20240113
DTSTAMP:20260420T061049
CREATED:20231125T122341Z
LAST-MODIFIED:20231125T122341Z
UID:102354-1704672000-1705103999@amadys.fr
SUMMARY:Accueil des malades atteints de Dystonie - Clermont-Ferrand - 08 au 12/01/2024
DESCRIPTION:Accueil des malades atteints de Dystonie – Clermont-Ferrand  \nLes Délégués Auvergne se tiennent à la disposition des patients\, les jours de vos injections de toxine botulinique\, au CHU Gabriel-Montpied. \nIls sont disponibles pour venir rencontrer les malades. \n \nPour tout rendez-vous ou information\, vous pouvez contacter : \n     Sylvie Muzyka \n07 67 86 71 50 \nMichel D’Angelo \n06 95 23 31 73 \n  \n 
URL:https://amadys.fr/agenda/accueil-des-malades-atteints-de-dystonie-clermont-ferrand-08-au-12-01-2024/
LOCATION:58 rue Montalembert\, 63000 Clermont-Ferrand\, 58 rue Montalembert\, Clermont-Ferrand\, 63000\, France Métropolitaine
CATEGORIES:Permanences Amadys
ATTACH;FMTTYPE=image/jpeg:https://amadys.fr/wp-content/uploads/2017/03/clermont-place-de-la-victoire.jpg
ORGANIZER;CN="Amadys":MAILTO:secretariat.amadys@amadys.fr
END:VEVENT
BEGIN:VEVENT
DTSTART;VALUE=DATE:20240115
DTEND;VALUE=DATE:20240120
DTSTAMP:20260420T061049
CREATED:20231125T122531Z
LAST-MODIFIED:20231125T122531Z
UID:102356-1705276800-1705708799@amadys.fr
SUMMARY:Accueil des malades atteints de Dystonie - Clermont-Ferrand - 15 au 19/01/2024
DESCRIPTION:Accueil des malades atteints de Dystonie – Clermont-Ferrand  \nLes Délégués Auvergne se tiennent à la disposition des patients\, les jours de vos injections de toxine botulinique\, au CHU Gabriel-Montpied. \nIls sont disponibles pour venir rencontrer les malades. \n \nPour tout rendez-vous ou information\, vous pouvez contacter : \n     Sylvie Muzyka \n07 67 86 71 50 \nMichel D’Angelo \n06 95 23 31 73 \n  \n 
URL:https://amadys.fr/agenda/accueil-des-malades-atteints-de-dystonie-clermont-ferrand-15-au-19-01-2024/
LOCATION:58 rue Montalembert\, 63000 Clermont-Ferrand\, 58 rue Montalembert\, Clermont-Ferrand\, 63000\, France Métropolitaine
CATEGORIES:Permanences Amadys
ATTACH;FMTTYPE=image/jpeg:https://amadys.fr/wp-content/uploads/2017/03/clermont-place-de-la-victoire.jpg
ORGANIZER;CN="Amadys":MAILTO:secretariat.amadys@amadys.fr
END:VEVENT
BEGIN:VEVENT
DTSTART;VALUE=DATE:20240122
DTEND;VALUE=DATE:20240127
DTSTAMP:20260420T061049
CREATED:20231125T122707Z
LAST-MODIFIED:20231125T122707Z
UID:102358-1705881600-1706313599@amadys.fr
SUMMARY:Accueil des malades atteints de Dystonie - Clermont-Ferrand - 22 au 26/01/2024
DESCRIPTION:Accueil des malades atteints de Dystonie – Clermont-Ferrand  \nLes Délégués Auvergne se tiennent à la disposition des patients\, les jours de vos injections de toxine botulinique\, au CHU Gabriel-Montpied. \nIls sont disponibles pour venir rencontrer les malades. \n \nPour tout rendez-vous ou information\, vous pouvez contacter : \n     Sylvie Muzyka \n07 67 86 71 50 \nMichel D’Angelo \n06 95 23 31 73 \n  \n 
URL:https://amadys.fr/agenda/accueil-des-malades-atteints-de-dystonie-clermont-ferrand-22-au-26-01-2024/
LOCATION:58 rue Montalembert\, 63000 Clermont-Ferrand\, 58 rue Montalembert\, Clermont-Ferrand\, 63000\, France Métropolitaine
CATEGORIES:Permanences Amadys
ATTACH;FMTTYPE=image/jpeg:https://amadys.fr/wp-content/uploads/2017/03/clermont-place-de-la-victoire.jpg
ORGANIZER;CN="Amadys":MAILTO:secretariat.amadys@amadys.fr
END:VEVENT
BEGIN:VEVENT
DTSTART;TZID=Europe/Paris:20240122T133000
DTEND;TZID=Europe/Paris:20240122T173000
DTSTAMP:20260420T061049
CREATED:20230625T160051Z
LAST-MODIFIED:20231125T123352Z
UID:101913-1705930200-1705944600@amadys.fr
SUMMARY:Permanence Lyon - 22/01/2024
DESCRIPTION:Vos délégués\, Béatrice Liard et Michel Lévêque\, auront le plaisir de vous accueillir de 13h30 à 17h30 \n  \nN’hésitez pas à leur rendre visite et à échanger ! \nVotre équipe AMADYS \n  \nPlus d’infos : Béatrice Liard\, 06 71 61 60 72\, liard.beatrice@orange.fr
URL:https://amadys.fr/agenda/permanence-lyon-22-01-2024/
LOCATION:Hôpital Neurologique\, 59 Boulevard Pinel\, Lyon Bron\, 69677\, France
CATEGORIES:Permanences Amadys
ATTACH;FMTTYPE=image/jpeg:https://amadys.fr/wp-content/uploads/2017/01/Photo-Ville-de-Lyon-720x340-624x295.jpg
ORGANIZER;CN="Amadys":MAILTO:secretariat.amadys@amadys.fr
END:VEVENT
BEGIN:VEVENT
DTSTART;VALUE=DATE:20240129
DTEND;VALUE=DATE:20240203
DTSTAMP:20260420T061049
CREATED:20231125T122912Z
LAST-MODIFIED:20231125T122912Z
UID:102360-1706486400-1706918399@amadys.fr
SUMMARY:Accueil des malades atteints de Dystonie - Clermont-Ferrand - 29/01 au 02/02/2024
DESCRIPTION:Accueil des malades atteints de Dystonie – Clermont-Ferrand  \nLes Délégués Auvergne se tiennent à la disposition des patients\, les jours de vos injections de toxine botulinique\, au CHU Gabriel-Montpied. \nIls sont disponibles pour venir rencontrer les malades. \n \nPour tout rendez-vous ou information\, vous pouvez contacter : \n     Sylvie Muzyka \n07 67 86 71 50 \nMichel D’Angelo \n06 95 23 31 73 \n  \n 
URL:https://amadys.fr/agenda/accueil-des-malades-atteints-de-dystonie-clermont-ferrand-29-01-au-02-02-2024/
LOCATION:58 rue Montalembert\, 63000 Clermont-Ferrand\, 58 rue Montalembert\, Clermont-Ferrand\, 63000\, France Métropolitaine
CATEGORIES:Permanences Amadys
ATTACH;FMTTYPE=image/jpeg:https://amadys.fr/wp-content/uploads/2017/03/clermont-place-de-la-victoire.jpg
ORGANIZER;CN="Amadys":MAILTO:secretariat.amadys@amadys.fr
END:VEVENT
END:VCALENDAR