BEGIN:VCALENDAR
VERSION:2.0
PRODID:-//Amadys - ECPv6.15.18//NONSGML v1.0//EN
CALSCALE:GREGORIAN
METHOD:PUBLISH
X-WR-CALNAME:Amadys
X-ORIGINAL-URL:https://amadys.fr
X-WR-CALDESC:Évènements pour Amadys
REFRESH-INTERVAL;VALUE=DURATION:PT1H
X-Robots-Tag:noindex
X-PUBLISHED-TTL:PT1H
BEGIN:VTIMEZONE
TZID:Europe/Paris
BEGIN:DAYLIGHT
TZOFFSETFROM:+0100
TZOFFSETTO:+0200
TZNAME:CEST
DTSTART:20230326T010000
END:DAYLIGHT
BEGIN:STANDARD
TZOFFSETFROM:+0200
TZOFFSETTO:+0100
TZNAME:CET
DTSTART:20231029T010000
END:STANDARD
BEGIN:DAYLIGHT
TZOFFSETFROM:+0100
TZOFFSETTO:+0200
TZNAME:CEST
DTSTART:20240331T010000
END:DAYLIGHT
BEGIN:STANDARD
TZOFFSETFROM:+0200
TZOFFSETTO:+0100
TZNAME:CET
DTSTART:20241027T010000
END:STANDARD
BEGIN:DAYLIGHT
TZOFFSETFROM:+0100
TZOFFSETTO:+0200
TZNAME:CEST
DTSTART:20250330T010000
END:DAYLIGHT
BEGIN:STANDARD
TZOFFSETFROM:+0200
TZOFFSETTO:+0100
TZNAME:CET
DTSTART:20251026T010000
END:STANDARD
END:VTIMEZONE
BEGIN:VEVENT
DTSTART;VALUE=DATE:20240226
DTEND;VALUE=DATE:20240302
DTSTAMP:20260420T025444
CREATED:20240122T104333Z
LAST-MODIFIED:20240122T104333Z
UID:102555-1708905600-1709337599@amadys.fr
SUMMARY:Accueil des malades atteints de Dystonie - Clermont-Ferrand - 26/02 au 01/03/2024
DESCRIPTION:Accueil des malades atteints de Dystonie – Clermont-Ferrand  \nLes Délégués Auvergne se tiennent à la disposition des patients\, les jours de vos injections de toxine botulinique\, au CHU Gabriel-Montpied. \nIls sont disponibles pour venir rencontrer les malades. \n \nPour tout rendez-vous ou information\, vous pouvez contacter : \n     Sylvie Muzyka \n07 67 86 71 50 \nMichel D’Angelo \n06 95 23 31 73 \n  \n 
URL:https://amadys.fr/agenda/accueil-des-malades-atteints-de-dystonie-clermont-ferrand-26-02-au-01-03-2024/
LOCATION:58 rue Montalembert\, 63000 Clermont-Ferrand\, 58 rue Montalembert\, Clermont-Ferrand\, 63000\, France Métropolitaine
CATEGORIES:Permanences Amadys
ATTACH;FMTTYPE=image/jpeg:https://amadys.fr/wp-content/uploads/2017/03/clermont-place-de-la-victoire.jpg
ORGANIZER;CN="Amadys":MAILTO:secretariat.amadys@amadys.fr
END:VEVENT
BEGIN:VEVENT
DTSTART;TZID=Europe/Paris:20240318T133000
DTEND;TZID=Europe/Paris:20240318T173000
DTSTAMP:20260420T025444
CREATED:20231125T123733Z
LAST-MODIFIED:20231125T123733Z
UID:102365-1710768600-1710783000@amadys.fr
SUMMARY:Permanence Lyon - 18/03/2024
DESCRIPTION:Vos délégués\, Béatrice Liard et Michel Lévêque\, auront le plaisir de vous accueillir de 13h30 à 17h30 \n  \nN’hésitez pas à leur rendre visite et à échanger ! \nVotre équipe AMADYS \n  \nPlus d’infos : Béatrice Liard\, 06 71 61 60 72\, liard.beatrice@orange.fr
URL:https://amadys.fr/agenda/permanence-lyon-18-03-2024/
LOCATION:Hôpital Neurologique\, 59 Boulevard Pinel\, Lyon Bron\, 69677\, France
CATEGORIES:Permanences Amadys
ATTACH;FMTTYPE=image/jpeg:https://amadys.fr/wp-content/uploads/2017/01/Photo-Ville-de-Lyon-720x340-624x295.jpg
ORGANIZER;CN="Amadys":MAILTO:secretariat.amadys@amadys.fr
END:VEVENT
BEGIN:VEVENT
DTSTART;TZID=Europe/Paris:20240329T140000
DTEND;TZID=Europe/Paris:20240329T170000
DTSTAMP:20260420T025444
CREATED:20240122T111715Z
LAST-MODIFIED:20240122T111726Z
UID:102564-1711720800-1711731600@amadys.fr
SUMMARY:Permanence Dunkerque - 29/03/2024
DESCRIPTION:Vos déléguées\, Chantal Guérin et Danye Chalon\, vous accueilleront de 14h à 17h\, au sein de la Maison des Usagers\, 1er étage de l’établissement. N’hésitez pas à aller à leur rencontre.
URL:https://amadys.fr/agenda/permanence-dunkerque-29-03-2024/
LOCATION:Centre Hospitalier de Dunkerque\, 130\, avenue Louis Herbeaux\, Dunkerque\, 59385\, France
CATEGORIES:Permanences Amadys
ATTACH;FMTTYPE=image/jpeg:https://amadys.fr/wp-content/uploads/2023/05/dunkerque.jpg
END:VEVENT
END:VCALENDAR