BEGIN:VCALENDAR
VERSION:2.0
PRODID:-//Amadys - ECPv6.15.18//NONSGML v1.0//EN
CALSCALE:GREGORIAN
METHOD:PUBLISH
X-WR-CALNAME:Amadys
X-ORIGINAL-URL:https://amadys.fr
X-WR-CALDESC:Évènements pour Amadys
REFRESH-INTERVAL;VALUE=DURATION:PT1H
X-Robots-Tag:noindex
X-PUBLISHED-TTL:PT1H
BEGIN:VTIMEZONE
TZID:Europe/Paris
BEGIN:DAYLIGHT
TZOFFSETFROM:+0100
TZOFFSETTO:+0200
TZNAME:CEST
DTSTART:20230326T010000
END:DAYLIGHT
BEGIN:STANDARD
TZOFFSETFROM:+0200
TZOFFSETTO:+0100
TZNAME:CET
DTSTART:20231029T010000
END:STANDARD
BEGIN:DAYLIGHT
TZOFFSETFROM:+0100
TZOFFSETTO:+0200
TZNAME:CEST
DTSTART:20240331T010000
END:DAYLIGHT
BEGIN:STANDARD
TZOFFSETFROM:+0200
TZOFFSETTO:+0100
TZNAME:CET
DTSTART:20241027T010000
END:STANDARD
BEGIN:DAYLIGHT
TZOFFSETFROM:+0100
TZOFFSETTO:+0200
TZNAME:CEST
DTSTART:20250330T010000
END:DAYLIGHT
BEGIN:STANDARD
TZOFFSETFROM:+0200
TZOFFSETTO:+0100
TZNAME:CET
DTSTART:20251026T010000
END:STANDARD
END:VTIMEZONE
BEGIN:VEVENT
DTSTART;VALUE=DATE:20240401
DTEND;VALUE=DATE:20240629
DTSTAMP:20260419T215123
CREATED:20240401T151434Z
LAST-MODIFIED:20240401T151434Z
UID:102961-1711929600-1719619199@amadys.fr
SUMMARY:Accueil des malades atteints de Dystonie - Clermont-Ferrand - 1/04 au 28/06/2024
DESCRIPTION:Accueil des malades atteints de dystonie ou de spasme hémifacial – Clermont-Ferrand  \nLes Délégués Auvergne se tiennent à la disposition des patients\, les jours des injections de toxine botulinique\, du lundi au vendredi\, en neurologie ou en ophtalmologie\, au CHU Gabriel-Montpied. \nIls sont disponibles pour venir à votre rencontre\, n’hésitez pas à les contacter. \n \nPour tout rendez-vous ou information\, vous pouvez contacter : \n     Sylvie Muzyka \n07 67 86 71 50 \nMichel D’Angelo \n06 95 23 31 73 \n  \n 
URL:https://amadys.fr/agenda/accueil-des-malades-atteints-de-dystonie-clermont-ferrand-1-04-au-28-06-2024/
LOCATION:58 rue Montalembert\, 63000 Clermont-Ferrand\, 58 rue Montalembert\, Clermont-Ferrand\, 63000\, France Métropolitaine
CATEGORIES:Permanences Amadys
ATTACH;FMTTYPE=image/jpeg:https://amadys.fr/wp-content/uploads/2017/03/clermont-place-de-la-victoire.jpg
ORGANIZER;CN="Amadys":MAILTO:secretariat.amadys@amadys.fr
END:VEVENT
BEGIN:VEVENT
DTSTART;TZID=Europe/Paris:20240624T133000
DTEND;TZID=Europe/Paris:20240624T170000
DTSTAMP:20260419T215123
CREATED:20231125T124230Z
LAST-MODIFIED:20240503T163309Z
UID:102371-1719235800-1719248400@amadys.fr
SUMMARY:Permanence Lyon - 24/06/2024
DESCRIPTION:Vos délégués du Rhône\, Béatrice Liard et Michel Lévêque\, auront le plaisir de vous accueillir de 13h30 à 17h \n  \nN’hésitez pas à leur rendre visite et à échanger ! \nVotre équipe AMADYS \n  \nPlus d’infos : Béatrice Liard\, 06 71 61 60 72\, liard.beatrice@orange.fr
URL:https://amadys.fr/agenda/permanence-lyon-24-06-2024/
LOCATION:Hôpital Neurologique\, 59 Boulevard Pinel\, Lyon Bron\, 69677\, France
CATEGORIES:Permanences Amadys
ATTACH;FMTTYPE=image/jpeg:https://amadys.fr/wp-content/uploads/2017/01/Photo-Ville-de-Lyon-720x340-624x295.jpg
ORGANIZER;CN="Amadys":MAILTO:secretariat.amadys@amadys.fr
END:VEVENT
BEGIN:VEVENT
DTSTART;TZID=Europe/Paris:20240628T140000
DTEND;TZID=Europe/Paris:20240628T170000
DTSTAMP:20260419T215124
CREATED:20240527T083704Z
LAST-MODIFIED:20240527T083704Z
UID:103216-1719583200-1719594000@amadys.fr
SUMMARY:Permanence Dunkerque - 28/06/2024
DESCRIPTION:Votre déléguée\, Chantal Guérin\, vous accueillera de 14h à 17h\, au sein de la Maison des Usagers\, 1er étage de l’établissement. \nN’hésitez pas à aller à sa rencontre.
URL:https://amadys.fr/agenda/permanence-dunkerque-28-06-2024/
LOCATION:Centre Hospitalier de Dunkerque\, 130\, avenue Louis Herbeaux\, Dunkerque\, 59385\, France
CATEGORIES:Permanences Amadys
ATTACH;FMTTYPE=image/jpeg:https://amadys.fr/wp-content/uploads/2023/05/dunkerque.jpg
END:VEVENT
END:VCALENDAR