BEGIN:VCALENDAR
VERSION:2.0
PRODID:-//Amadys - ECPv6.15.18//NONSGML v1.0//EN
CALSCALE:GREGORIAN
METHOD:PUBLISH
X-WR-CALNAME:Amadys
X-ORIGINAL-URL:https://amadys.fr
X-WR-CALDESC:Évènements pour Amadys
REFRESH-INTERVAL;VALUE=DURATION:PT1H
X-Robots-Tag:noindex
X-PUBLISHED-TTL:PT1H
BEGIN:VTIMEZONE
TZID:Europe/Paris
BEGIN:DAYLIGHT
TZOFFSETFROM:+0100
TZOFFSETTO:+0200
TZNAME:CEST
DTSTART:20120325T010000
END:DAYLIGHT
BEGIN:STANDARD
TZOFFSETFROM:+0200
TZOFFSETTO:+0100
TZNAME:CET
DTSTART:20121028T010000
END:STANDARD
BEGIN:DAYLIGHT
TZOFFSETFROM:+0100
TZOFFSETTO:+0200
TZNAME:CEST
DTSTART:20130331T010000
END:DAYLIGHT
BEGIN:STANDARD
TZOFFSETFROM:+0200
TZOFFSETTO:+0100
TZNAME:CET
DTSTART:20131027T010000
END:STANDARD
BEGIN:DAYLIGHT
TZOFFSETFROM:+0100
TZOFFSETTO:+0200
TZNAME:CEST
DTSTART:20140330T010000
END:DAYLIGHT
BEGIN:STANDARD
TZOFFSETFROM:+0200
TZOFFSETTO:+0100
TZNAME:CET
DTSTART:20141026T010000
END:STANDARD
END:VTIMEZONE
BEGIN:VEVENT
DTSTART;TZID=Europe/Paris:20131012T000000
DTEND;TZID=Europe/Paris:20131012T000000
DTSTAMP:20260420T001234
CREATED:20161130T151238Z
LAST-MODIFIED:20170209T122212Z
UID:140-1381536000-1381536000@amadys.fr
SUMMARY:Réunion malades médecins à Paris le 12 octobre
DESCRIPTION:Cette rencontre se tiendra   au  Centre National d’Ophtalmologie des Quinze‐Vingts en présence du Pr GIRARD  Ophtalmologiste et du Dr DEGOS\, Neurologue au 28 rue de Charenton ‐75012 Paris  (Amphithéâtre au 3ème étage)Accès: Métro Bastille ou Parking « Opéra Bastille » qui dessert les Quinze‐Vingts par une sortie directe « Hôpital »Cette invitation s’adresse à toute personne concernée par les dystonies (malades\, proches)\, adhérente ou non à l’association. \nUn « verre de l’amitié  » nous réunira au terme de cette rencontrePour tout renseignement vous pouvez joindre votre déléguée locale : Mme Danielle MONTFORT : danielle.montfort@amadys.fr Tél 01 39 58 81 43
URL:https://amadys.fr/agenda/reunion-malades-medecins-a-paris-le-12-octobre/
CATEGORIES:Réunions malades - médecins
END:VEVENT
END:VCALENDAR