BEGIN:VCALENDAR
VERSION:2.0
PRODID:-//Amadys - ECPv6.15.18//NONSGML v1.0//EN
CALSCALE:GREGORIAN
METHOD:PUBLISH
X-WR-CALNAME:Amadys
X-ORIGINAL-URL:https://amadys.fr
X-WR-CALDESC:Évènements pour Amadys
REFRESH-INTERVAL;VALUE=DURATION:PT1H
X-Robots-Tag:noindex
X-PUBLISHED-TTL:PT1H
BEGIN:VTIMEZONE
TZID:Europe/Paris
BEGIN:DAYLIGHT
TZOFFSETFROM:+0100
TZOFFSETTO:+0200
TZNAME:CEST
DTSTART:20130331T010000
END:DAYLIGHT
BEGIN:STANDARD
TZOFFSETFROM:+0200
TZOFFSETTO:+0100
TZNAME:CET
DTSTART:20131027T010000
END:STANDARD
BEGIN:DAYLIGHT
TZOFFSETFROM:+0100
TZOFFSETTO:+0200
TZNAME:CEST
DTSTART:20140330T010000
END:DAYLIGHT
BEGIN:STANDARD
TZOFFSETFROM:+0200
TZOFFSETTO:+0100
TZNAME:CET
DTSTART:20141026T010000
END:STANDARD
BEGIN:DAYLIGHT
TZOFFSETFROM:+0100
TZOFFSETTO:+0200
TZNAME:CEST
DTSTART:20150329T010000
END:DAYLIGHT
BEGIN:STANDARD
TZOFFSETFROM:+0200
TZOFFSETTO:+0100
TZNAME:CET
DTSTART:20151025T010000
END:STANDARD
END:VTIMEZONE
BEGIN:VEVENT
DTSTART;TZID=Europe/Paris:20140129T000000
DTEND;TZID=Europe/Paris:20140129T000000
DTSTAMP:20260419T190112
CREATED:20161130T151238Z
LAST-MODIFIED:20170209T122212Z
UID:138-1390953600-1390953600@amadys.fr
SUMMARY:Une réunion malades-médecins à Limoges
DESCRIPTION:Les délégués locaux : Hamid BOUMAÏZA et Luc LESTURGIE ont le plaisir de vous inviter à une réunion malades médecins le mercredi 29 janvier 2014 de 14h à 18h. \nElle se déroulera au CHU de Limoges (Rez de Chaussée – Salle n° 3)\, en présence du Pr ADENIS (Ophtalmologiste) et du Pr COURATIER (Neurologue) \nCette invitation s’adresse à toute personne concernée par les dystonies (malades\, proches de malades\, mais aussi médecins spécialisés ou non\, kinés\, etc…) adhérente ou non à l’association. \nUn verre de l’amitié clôturera cette rencontre.        
URL:https://amadys.fr/agenda/une-reunion-malades-medecins-a-limoges/
CATEGORIES:Réunions malades - médecins
ATTACH;FMTTYPE=image/gif:https://amadys.fr/wp-content/uploads/2016/11/REUNION-LIMOGES.gif
END:VEVENT
END:VCALENDAR