BEGIN:VCALENDAR
VERSION:2.0
PRODID:-//Amadys - ECPv6.15.18//NONSGML v1.0//EN
CALSCALE:GREGORIAN
METHOD:PUBLISH
X-ORIGINAL-URL:https://amadys.fr
X-WR-CALDESC:Évènements pour Amadys
REFRESH-INTERVAL;VALUE=DURATION:PT1H
X-Robots-Tag:noindex
X-PUBLISHED-TTL:PT1H
BEGIN:VTIMEZONE
TZID:Europe/Paris
BEGIN:DAYLIGHT
TZOFFSETFROM:+0100
TZOFFSETTO:+0200
TZNAME:CEST
DTSTART:20130331T010000
END:DAYLIGHT
BEGIN:STANDARD
TZOFFSETFROM:+0200
TZOFFSETTO:+0100
TZNAME:CET
DTSTART:20131027T010000
END:STANDARD
BEGIN:DAYLIGHT
TZOFFSETFROM:+0100
TZOFFSETTO:+0200
TZNAME:CEST
DTSTART:20140330T010000
END:DAYLIGHT
BEGIN:STANDARD
TZOFFSETFROM:+0200
TZOFFSETTO:+0100
TZNAME:CET
DTSTART:20141026T010000
END:STANDARD
BEGIN:DAYLIGHT
TZOFFSETFROM:+0100
TZOFFSETTO:+0200
TZNAME:CEST
DTSTART:20150329T010000
END:DAYLIGHT
BEGIN:STANDARD
TZOFFSETFROM:+0200
TZOFFSETTO:+0100
TZNAME:CET
DTSTART:20151025T010000
END:STANDARD
END:VTIMEZONE
BEGIN:VEVENT
DTSTART;TZID=Europe/Paris:20140517T000000
DTEND;TZID=Europe/Paris:20140517T000000
DTSTAMP:20260419T151854
CREATED:20161130T151238Z
LAST-MODIFIED:20170209T122212Z
UID:133-1400284800-1400284800@amadys.fr
SUMMARY:L’Assemblée Générale et le colloque médical 2014: un événement incontournable!
DESCRIPTION:Grande journée de la dystonie le samedi 17 mai à Paris\, à l’hôtel IBIS BERTHIER.\nVisionnez le diaporama de cette journée\, en attendant la vidéo qui sera accessible à tous les adhérents d’ici cet été. \n \nCette journée est un temps fort pour l’association et ses membres et comme chaque année nous vous y espérons nombreux. Cette année encore\, nous avons la chance de bénéficier de la participation d’intervenants de qualité. \nL’Assemblée Générale\nRéservée aux adhérents\, elle est un moment privilégié pour leur présenter les activités de l’association. Nous aurons la chance de profiter de la présence du Pr Pierre Burbaud\, de Jean-Pierre Bleton (qui évoquera la réédition de son guide sur la rééducation de la dystonie cervicale)\, de Marylisa Félix-Ravelo\, interne d’ORL\, qui présentera son étude sur l’effet de la toxine botulique chez les patients atteints de dysphonie spasmodique isolée ou associée à d’autres dystonies et bien entendu du Pr Marie Vidailhet\, Présidente de notre comité scientifique. \nLors de cette Assemblée Générale\, le rapport d’activité (disponible dans le prochain bulletin à paraître fin avril-début mai) et le rapport financier seront également soumis à l’approbation des adhérents. \nProgramme de l’Assemblée Générale: \n\n\n\n9h15 à 9h45   \nAccueil des participants\n\n\n9H45\nAssemblée Générale ordinaire\n\n\nStéphanie FREHEL\nOuverture de l’assemblée générale ordinaire Approbation du procès verbal de l’A.G. 2013 (Marseille) Rapport d’activité 2013 (avec participation des délégués)\n\n\nThibault JURVILLIER\nRapport financier 2013 et Cotisation 2015\n\n\nEmmanuel BASSI/ Agence « Osez Abuser »\nBilan des 2 objectifs 2013: Développement du réseau local Développement de la communication\n\n\nStéphanie FREHEL/ Agence « Osez Abuser »\nOrientations-Objectifs 2014\n\n\n Pr Pierre BURBAUD\nLa recherche\n\n\nMarylisa FELIX-RAVELO/ Jean-Pierre BLETON \nDystonie et actualités : Etude sur la dysphonie spasmodique Réédition du guide de rééeducation des dystonies cervicales\n\n\n Pr Marie Vidailhet\nDystonia Europe à Paris en octobre 2014\n\n\n Stéphanie FREHEL\nRenouvellement des membres du CA et du Bureau\n\n\n Pr Marie Vidailhet\nLe comité scientifique\n\n\n\nLe colloque médical\nOuvert à tous (adhérents et non adhérents)\, et organisé  grâce au soutien institutionnel du Laboratoire IPSEN\, il sera présidé par le Pr Marie Vidailhet. Nous avons souhaité cette année mettre l’accent sur un seul thème : les prises en charge. Ce sujet va permettre d’aborder tout type de prise en charge autour de la dystonie : rééducation\, injection de toxine botulique\, chirurgie\, et nous consacrerons également un temps pour évoquer la qualité de vie du patient\, à partir des questions de la salle : douleur\, prise en charge psychologique\, prise en charge administrative\, etc… Ce sujet\, traité par le Pr Marie Vidailhet se construira à partir d’un panel de questions afin d’adapter le discours en fonction du besoin des malades. \nCe sont des nouveaux membres du comité scientifique (ayant été intégrés l’an passé) qui interviendront tout au long de cet après-midi et nous les remercions pour leur disponibilité. \nVoici le programme de ce colloque médical\, présidé par le Pr Marie Vidailhet\, en collaboration avec le Pr Brigitte Girard et le Dr Christophe Vial \n\n\n\n14H15 \nPr Marie VIDAILHET\nAccueil des participants et présentation du sujet du panel portant sur la qualité de vie des patients\n\n\n14H30\nDr Myriam COHEN (ORL\, Paris)\nLe traitement des dystonies ORL\n\n\n15H\nPr Pierre KRYSTKOWIAK(Neurologue\, Amiens)\nLa toxine et le long terme\n\n\n15h30\nPr Elena MORO (Neurologue\, Grenoble)\nL’electrostimulation pour la dystonie cervicale et les formes faciales\n\n\n16H15 \nCoralie COUSIN (Kinésithérapeute\, Paris)\nRééducation et crampe du musicien\n\n\n16H45\nJean-Pierre BLETON (Kinésithérapeute\, Paris)\nRééducation de la dystonie cervicale et de la crampe de l’écrivain\n\n\n17H15\nPr Marie VIDAILHET (Neurologue\, Paris)\nLa qualité de vie des patients\n\n\n\n \n 
URL:https://amadys.fr/agenda/lassemblee-generale-et-le-colloque-medical-2014-un-evenement-incontournable/
CATEGORIES:Réunions malades - médecins
END:VEVENT
END:VCALENDAR