BEGIN:VCALENDAR
VERSION:2.0
PRODID:-//Amadys - ECPv6.15.18//NONSGML v1.0//EN
CALSCALE:GREGORIAN
METHOD:PUBLISH
X-ORIGINAL-URL:https://amadys.fr
X-WR-CALDESC:Évènements pour Amadys
REFRESH-INTERVAL;VALUE=DURATION:PT1H
X-Robots-Tag:noindex
X-PUBLISHED-TTL:PT1H
BEGIN:VTIMEZONE
TZID:Europe/Paris
BEGIN:DAYLIGHT
TZOFFSETFROM:+0100
TZOFFSETTO:+0200
TZNAME:CEST
DTSTART:20210328T010000
END:DAYLIGHT
BEGIN:STANDARD
TZOFFSETFROM:+0200
TZOFFSETTO:+0100
TZNAME:CET
DTSTART:20211031T010000
END:STANDARD
BEGIN:DAYLIGHT
TZOFFSETFROM:+0100
TZOFFSETTO:+0200
TZNAME:CEST
DTSTART:20220327T010000
END:DAYLIGHT
BEGIN:STANDARD
TZOFFSETFROM:+0200
TZOFFSETTO:+0100
TZNAME:CET
DTSTART:20221030T010000
END:STANDARD
BEGIN:DAYLIGHT
TZOFFSETFROM:+0100
TZOFFSETTO:+0200
TZNAME:CEST
DTSTART:20230326T010000
END:DAYLIGHT
BEGIN:STANDARD
TZOFFSETFROM:+0200
TZOFFSETTO:+0100
TZNAME:CET
DTSTART:20231029T010000
END:STANDARD
BEGIN:DAYLIGHT
TZOFFSETFROM:+0100
TZOFFSETTO:+0200
TZNAME:CEST
DTSTART:20240331T010000
END:DAYLIGHT
BEGIN:STANDARD
TZOFFSETFROM:+0200
TZOFFSETTO:+0100
TZNAME:CET
DTSTART:20241027T010000
END:STANDARD
END:VTIMEZONE
BEGIN:VEVENT
DTSTART;VALUE=DATE:20220510
DTEND;VALUE=DATE:20221208
DTSTAMP:20260420T191930
CREATED:20220510T134438Z
LAST-MODIFIED:20220826T174958Z
UID:99885-1652140800-1670457599@amadys.fr
SUMMARY:Appel à projets national Ipsen Pharma - Les Lauréats du Clostridium 2022
DESCRIPTION:AMADYS est heureux de s’associer à Ipsen Pharma pour la deuxième édition de leur appel à projets national « Les Lauréats du Clostridium« \, à l’attention des professionnels de santé. \nL’appel à projets porte sur le partage d’initiatives innovantes\, pertinentes et transposables\, sur la prise en charge de la spasticité et de la dystonie. \n2 thématiques sont proposés aux candidats : \n  \nANATOMIE APPLIQUÉE :\n– Anatomie fondamentale : tout projet autour de la morphologie des muscles impliqués dans la spasticité ou la dystonie (ex : dissection)\n– Anatomie fonctionnelle : tout projet autour de l’étude du muscle\, de sa fonction et sa dysfonction dans les champs de la spasticité ou la dystonie (incluant les évaluations instrumentales et biomécaniques)\n– Imagerie anatomique : tout projet autour du ciblage et du repérage des muscles impliqués dans la spasticité ou la dystonie (ex : échographie\, IRM\, cone beam) \n  \nINNOVATION DU PARCOURS PATIENT / PARCOURS DE SOINS :\n– Tout projet autour de l’optimisation du réseau de soin et de la prise en charge multidisciplinaire des patients atteints de spasticité ou de dystonie\n– Tout projet visant à améliorer leur parcours de soin\, du séjour à l’hôpital au suivi à domicile \nLes projets pourront être soumis par tout professionnel de santé (médecin\, pharmacien\, kinésithérapeute) et scientifique impliqués dans la prise en charge des patients atteints de spasticité et de dystonie. \n  \n2 prix d’une valeur de 30 000 € pour les 2 finalistes ayant été primés en fonction du vote du comité du jury et du public composé notamment du professionnels de santé. \n  \nAgenda :\n– jusqu’au 30 septembre : réception et analyse des candidatures\n– octobre : sélection de 4 projets par les membres du comité de sélection\n– 8 décembre : élection de deux lauréats par la communauté de MPR et de Neurologie lors d’une émission en direct et attribution des prix aux lauréats.  \n  \nAMADYS sera représentée par sa Présidente\, E. Ponseel\, membre du comité de sélection\, entourée par de prestigieux spécialistes.\nNous souhaitons que les projets relatifs à la dystonie seront nombreux ! \n  \nLien de candidature pour nos spécialistes et professionnels : https://www.ipsen-laureats-clostridium.com/laureats2022/ \n  \nCette deuxième édition ouvre son champ d’application à toute forme de dystonie (que cervicale en 2021) et voit les prix remis aux lauréats doublés (15 000€ l’année dernière). \n  \nEn parler\, participer\, encourager\, soutenir\, c’est aider la recherche ! \n  \n \n  \n			\n				\n					\n						\n							\n							En cours de chargement…\n						\n					\n					\n						\n							\n							Cela prend trop de temps ?\n						\n						\n								 Recharger le document							\n							|\n							\n								 Ouvrir dans un nouvel onglet
URL:https://amadys.fr/agenda/appel-a-projets-national-ipsen-pharma-les-laureats-du-clostridium-2022/
CATEGORIES:Autres événements
ATTACH;FMTTYPE=image/jpeg:https://amadys.fr/wp-content/uploads/2022/05/clostridium.jpg
END:VEVENT
BEGIN:VEVENT
DTSTART;TZID=Europe/Paris:20220920T000000
DTEND;TZID=Europe/Paris:20221215T000000
DTSTAMP:20260420T191930
CREATED:20220724T091526Z
LAST-MODIFIED:20221009T163210Z
UID:100178-1663632000-1671062400@amadys.fr
SUMMARY:Brain Team : 2ème session du programme d’accompagnement pour les aidants
DESCRIPTION:2ème session du  programme d’accompagnement pour les aidants : Accompagnement Interdisciplinaire Des Aidants dans les maladies Neurologiques rares \nBrain-Team lance la 2ème session du programme AIDAN (Accompagnement Interdisicplinaire Des Aidants dans les maladies Neurologiques rares) à destination des aidants de malades adultes ou enfants\, en début de maladie ou malades depuis longtemps. \nCette nouvelle session se déroulera du 20 septembre au 15 décembre 2022. \nCes séminaires s’adressent exclusivement aux aidants et non aux patients et sont réservés en priorité aux aidants affiliés aux associations de la filière Brain Team.  \nPour participer\, un dossier de candidature est à renseigner et sera examiné en vue de constituer des groupes homogènes. \nProgramme\, dates et inscriptions en suivant ce lien : https://brain-team.fr/aidan/ \nPlaquette d’information en téléchargement : \n			\n				\n					\n						\n							\n							En cours de chargement…\n						\n					\n					\n						\n							\n							Cela prend trop de temps ?\n						\n						\n								 Recharger le document							\n							|\n							\n								 Ouvrir dans un nouvel onglet							\n					\n				\n			\n		 \n  \n  \n  \n  \n 
URL:https://amadys.fr/agenda/brain-team-2eme-session-du-programme-daccompagnement-pour-les-aidants/
CATEGORIES:Autres événements
ATTACH;FMTTYPE=image/jpeg:https://amadys.fr/wp-content/uploads/2022/05/un-programme-daccompagnement-pour-les-aidants-accompagnement-interdisciplinaire-des-aidants-dans-les-maladies-neurologiques-rares.jpg
END:VEVENT
BEGIN:VEVENT
DTSTART;VALUE=DATE:20230424
DTEND;VALUE=DATE:20230425
DTSTAMP:20260420T191930
CREATED:20221010T220635Z
LAST-MODIFIED:20230612T121258Z
UID:100546-1682294400-1682380799@amadys.fr
SUMMARY:Spectacle virtuel : Debout pour la Dystonie ! 2ème édition
DESCRIPTION:SPECTACLE VIRTUEL : DEBOUT POUR LA DYSTONIE ! 2ème édition\nLa Guyane de toutes les couleurs \n  \nCe spectacle programmé le 23 mai 2020 fut annulé pour cause de Covid. \nBrigitte A-SIM\, déléguée AMADYS des Outremers et présidente de l’Association des Malades Atteints de Dystonie en Guyane\, a souhaité en faire un spectacle virtuel afin que les adhérents d’AMADYS et les membres du groupe de paroles sur Facebook « Parlons Dystonie » puissent en profiter.\nL’Amazonie française est un melting pot où se rencontrent les peuples Amérindiens\, Bushinenge (Noirs-marron)\, Hmongs\, Créoles et Chinois qui font le métissage de Guyane. \nPlus de vingt ethnies ayant leur langue et leur culture propres vivent en Guyane\, seize sont représentées dans la vidéo.\nA l’issue de ce spectacle haut en couleur\, un don sera remis à AMADYS en faveur de la recherche médicale. \nLe mot de Brigitte lors de la mise à disposition de son spectacle virtuel le 30/09/2022 : \n\n\n\n\n \nBonjour à tous. Le 30 septembre est le dernier jour de l’année dédié à la dystonie. \nA cette occasion\, j’aimerais vous offrir un cadeau de 1 h 30 pour penser autre chose que\, maladie ou douleurs. \nQuel plaisir de pouvoir s’assoir un moment comme on peut (parfois droit ou à moitié allongé\, parfois un peu de travers ou complètement tordu ou encore tout tremblotant) pour assister à un spectacle venu d’ailleurs et se vider la tête. \nLes images nous font quelquefois oublier nos maux. \nC’est ce que je vous souhaite avec ce spectacle virtuel qui avait été prévu en présentiel le 23 mai 2020 à l’EPCC Les Trois Fleuves\, salle de spectacle à Cayenne\, en faveur de la recherche médicale. Il fut annulé pour les raisons que vous connaissez.\nJe vous souhaite de passer un bon moment.\n\n\n\nMerci Brigitte pour ton implication pour les malades et la dystonie\, pour tout ce travail\, ta gentillesse et ton énergie.\nMerci à tout ceux qui ont rendu ce spectacle possible. \nL’équipe AMADYS \n  \n \n  \nMUSIQUES :\nTitre : Be Italian\, Artiste : Fergie\, Auteur-Compositeur : Maury Yeston\nTitre : Oya\, Artiste : Grupo Sensação\, Album : Mais uma Paixão\nTitre : A la diète\, Artiste : Clara Nugent\, Auteur-Compositeur : Flyy Lerandy\, Réalisation du clip : Flyy@way productions\nTitre : Apashe – Majesty (Instrumental)\nTitre : Couper Décaler\, Artiste : Teeyah\, Album : Metisse© Copyright: 2004 Soul Squad Music ℗ Production: 2004 Soul Squad Music\nTitre : Timoun Lagwiyann\, Auteur-Compositeur : Francis Nugent\, Interprètes : Ses élèves de l’école Maximilien Saba de Kourou\, Réalisation du clip : Flyy Lerandy\nTitre : Ma Dystonie\, Artiste : Emmanuel Dalmas\, Album : Ma Dystonie.
URL:https://amadys.fr/agenda/spectacle-virtuel-debout-pour-la-dystonie-2eme-edition/
CATEGORIES:Autres événements
ATTACH;FMTTYPE=image/jpeg:https://amadys.fr/wp-content/uploads/2022/10/capture-decran-2022-10-10-234533.jpg
ORGANIZER;CN="Amadys":MAILTO:secretariat.amadys@amadys.fr
END:VEVENT
BEGIN:VEVENT
DTSTART;VALUE=DATE:20221114
DTEND;VALUE=DATE:20221121
DTSTAMP:20260420T191930
CREATED:20221101T110334Z
LAST-MODIFIED:20221102T171456Z
UID:100681-1668384000-1668988799@amadys.fr
SUMMARY:Semaine européenne pour l'emploi des personnes handicapées 2022
DESCRIPTION:La 26ème édition de la Semaine Européenne pour l’Emploi des Personnes Handicapées (SEEPH) se déroulera du 14 au 20 novembre. En France\, cet événement est porté par l’ADAPT\, association pour l’insertion sociale et professionnelle des personnes handicapées\, coorganisé par l’AGEFIPH et le FIPHFP\, sous le haut patronage du Président de la République et le patronage du Parlement Européen. \nPendant 1 semaine\, l’opération vise à se faire rencontrer entreprises\, politiques\, associations\, société civile et demandeurs d’emploi en situation de handicap. \nLa dystonie\, troisième forme de mouvements anormaux\, après la maladie de Parkinson et le Tremblement Essentiel\, handicap visible et invisible\, rend difficile l’accès ou le maintien à l’emploi. \nC’est donc tout naturellement qu’AMADYS relaye cet événement et y participera par de la sensibilisation sur ses réseaux sociaux. \nRetrouvez toute l’information sur la Semaine Européenne pour l’Emploi des Personnes Handicapées 2022\, en cliquant sur ce lien : SEEPH 2022 \n  \n  \n  \n 
URL:https://amadys.fr/agenda/semaine-europeenne-pour-lemploi-des-personnes-handicapees-2022/
CATEGORIES:Autres événements
ATTACH;FMTTYPE=image/jpeg:https://amadys.fr/wp-content/uploads/2022/11/du-14-au-20-novembre-2022.jpg
END:VEVENT
BEGIN:VEVENT
DTSTART;TZID=Europe/Paris:20221118T183000
DTEND;TZID=Europe/Paris:20221118T220000
DTSTAMP:20260420T191930
CREATED:20221112T115927Z
LAST-MODIFIED:20221113T092938Z
UID:100712-1668796200-1668808800@amadys.fr
SUMMARY:Vidéoshow du Club des Mouvements Anormaux
DESCRIPTION:Le service de neurologie du CHU de Lille et la société française des mouvements anormaux (SOFMA) proposent aux professionnels de participer à une soirée insolite et éducative consacrée aux mouvements anormaux\, organisée le 18 novembre 2022\, à partir de 18h30. \nEvénements ouverts aux professionnels de santé (externes\, internes\, kinés\, psychologues\, neuropsychologues\, pédiatres\, internistes\, médecins rééducateurs\, psychiatres\, neurologues…). \nPrésentation\, exceptionnelle\, insolite\, éducative de 3h de vidéos de mouvements anormaux\, animée par le Professeur Emmanuel Flamand-Roze. \nInscriptions ici  \n \nVidéoshow Club des Mouvements Anormaux \n  \n  \n 
URL:https://amadys.fr/agenda/videoshow-du-club-des-mouvements-anormaux/
CATEGORIES:Autres événements
ATTACH;FMTTYPE=image/jpeg:https://amadys.fr/wp-content/uploads/2022/11/sofma-18-novembre.jpg
END:VEVENT
BEGIN:VEVENT
DTSTART;TZID=Europe/Paris:20221119T140000
DTEND;TZID=Europe/Paris:20221119T200000
DTSTAMP:20260420T191930
CREATED:20221009T162953Z
LAST-MODIFIED:20221009T162953Z
UID:100530-1668866400-1668888000@amadys.fr
SUMMARY:Réunion régionale Bretagne Rennes malades/soignants 19/11/2022
DESCRIPTION:AMADYS et vos délégués Bretagne ont le plaisir de vous inviter à une rencontre entre adhérents\, malades\, parents\, aidants\, et soignants. \nDate : samedi 19 novembre 2022 de 14h15 à 20h avec pause \n  \nProgramme et animation de la réunion : \n\nMme Karine SPINETTE\, Psychologue à Charleville Mézière :\n« La prise en charge psychologique de la douleur »\nMr Nicolas TREGLOS\, kinésithérapeute à Rennes :\n« la rééducation de la crampe de l’écrivain»\nMr François LEGRAND\, kinésithérapeute à Rennes :\n« la rééducation de la dystonie cervicale»\nUn verre de l’amitié clôturera cette rencontre.\n\n  \nCette invitation s’adresse à toute personne concernée par la dystonie (malades\, proches de malades mais aussi médecins et kinés\, adhérents ou non de l’association). \nVenez nombreux nous rencontrer\, échanger\, et mieux connaître la dystonie ! \n  \nLieu : \nSalle du LANDRY au 29 avenue de Cork à Rennes\, près du cercle Paul Bert et du collège du Landry.\nParking voiture avenue de Cork. \nLigne bus C1 arrêt Landry ou Leon Bourgeois.\nTransports\, consulter : https://www.star2022.fr/ \n  \nInscriptions obligatoires avant le 16/11/2022 : \n\n                \n                        Nom*Prénom*Email*Téléphone*Adhérent Amadys ?*\n			\n				\n				Oui\n			\n			\n				\n				Non\n			Nombre de participants ?*Message\n          \n            \n            \n            \n            \n            \n            \n            \n            \n            \n            \n            \n            \n            \n        \n                        \n                        \n \nPlus d’informations : Bernard Pauvert\, 02 30 83 19 00 ou 06 27 06 71 70\, bernardpauvert.amadys35@yahoo.fr\n \nMesures sanitaires liées à la Covid19 : respect des gestes barrières (lavage des mains\, port du masque…)\, pensez à prendre vos dispositions. \n  \n \n 
URL:https://amadys.fr/agenda/reunion-regionale-bretagne-rennes-malades-soignants-19-11-2022/
LOCATION:Salle du Landry\, 29 Avenue de Cork\, Rennes\, 35000\, France
CATEGORIES:Réunions malades - médecins
ATTACH;FMTTYPE=image/webp:https://amadys.fr/wp-content/uploads/2022/10/rennes-lune-des-villes-les-plus-dynamiques-de-bretagne.webp
ORGANIZER;CN="Amadys":MAILTO:secretariat.amadys@amadys.fr
END:VEVENT
BEGIN:VEVENT
DTSTART;TZID=Europe/Paris:20221121T133000
DTEND;TZID=Europe/Paris:20221121T163000
DTSTAMP:20260420T191930
CREATED:20221011T125652Z
LAST-MODIFIED:20221011T125652Z
UID:100564-1669037400-1669048200@amadys.fr
SUMMARY:Permanence Lyon - 21/11/2022
DESCRIPTION:Vos délégués\, Béatrice Liard et Michel Lévêque\, auront le plaisir de vous accueillir de 13h30 à 16h30 \n  \nN’hésitez pas à leur rendre visite et à échanger ! \nVotre équipe AMADYS \n  \nPlus d’infos : Béatrice Liard\, 06 71 61 60 72\, liard.beatrice@orange.fr
URL:https://amadys.fr/agenda/permanence-lyon-21-11-2022/
LOCATION:Hôpital Neurologique\, 59 Boulevard Pinel\, Lyon Bron\, 69677\, France
CATEGORIES:Permanences Amadys
ATTACH;FMTTYPE=image/jpeg:https://amadys.fr/wp-content/uploads/2017/01/Photo-Ville-de-Lyon-720x340-624x295.jpg
ORGANIZER;CN="Amadys":MAILTO:secretariat.amadys@amadys.fr
END:VEVENT
BEGIN:VEVENT
DTSTART;TZID=Europe/Paris:20221126T140000
DTEND;TZID=Europe/Paris:20221126T173000
DTSTAMP:20260420T191930
CREATED:20221019T195812Z
LAST-MODIFIED:20221019T195812Z
UID:100613-1669471200-1669483800@amadys.fr
SUMMARY:Réunion régionale Pays-de-la-Loire Nantes malades/aidants 26/11/2022
DESCRIPTION:AMADYS et vos déléguées Pays-de-la-Loire\, Patricia Deneufve et Anne Blond\, ont le plaisir de vous inviter à une rencontre entre adhérents\, malades\, parents\, aidants. \nDate : samedi 26 novembre 2022 de 14h à 17h30 \n  \nNous vous proposons une rencontre en toute simplicité et dans la bonne humeur afin d’échanger entre malades et/ou aidants dans un espace accessible à tous\, et suffisamment grand pour respecter les jauges Covid. \nLieu : \nSalle 93\nLe Solilab\n8\, rue saint Domingues\n44200 NANTES (île de Nantes) \nAccès :\n– Chronobus C5 arrêt « Hangar à bananes » au départ de la gare Sud\n– Navibus N2 liaison entre « Bas de Chantenay »\net « Hangar à bananes »\n– Parking gratuit aux alentours \n  \nInscriptions obligatoires avant le 23/11/2022 :  \nPlus d’informations : Patricia Deneufve\, 06 06 59 28 57\, patricia.deneufve.amadys44@orange.fr\n \nMesures sanitaires liées à la Covid19 : respect des gestes barrières (lavage des mains\, port du masque…)\, pensez à prendre vos dispositions. \n  \n \n 
URL:https://amadys.fr/agenda/reunion-regionale-pays-de-la-loire-nantes-malades-aidants-26-11-2022/
LOCATION:Solilab\, 8\, rue saint Domingues\, Nantes\, 44200\, France
CATEGORIES:Réunions malades - médecins
ATTACH;FMTTYPE=image/jpeg:https://amadys.fr/wp-content/uploads/2022/10/nantes-homepage-french-moments.jpg
ORGANIZER;CN="Amadys":MAILTO:secretariat.amadys@amadys.fr
END:VEVENT
BEGIN:VEVENT
DTSTART;VALUE=DATE:20221129
DTEND;VALUE=DATE:20221230
DTSTAMP:20260420T191930
CREATED:20221120T131348Z
LAST-MODIFIED:20221203T162156Z
UID:100743-1669680000-1672358399@amadys.fr
SUMMARY:29 novembre 2022 : Journée Mondiale des Mouvements Anormaux
DESCRIPTION:Première Journée Mondiale des Mouvements Anormaux \nLes troubles du mouvement sont des complications particulièrement complexes qui n’entrent pas dans d’autres catégories établies de maladies\, ce qui les rend particulièrement difficiles à diagnostiquer\, à traiter et à comprendre. \nC’est pourquoi l’International Parkinson and Movement Disorder Society (MDS) encourage la sensibilisation aux troubles du mouvement (#MoveDisorder). \nL’International Parkinson and Movement Disorder Society (MDS)  est une société professionnelle de cliniciens\, de scientifiques et d’autres professionnels de la santé qui s’intéressent à certaines des maladies les plus difficiles à diagnostiquer et à traiter : les troubles du mouvement\, y compris la maladie de Parkinson\, les troubles neurodégénératifs et neurodéveloppementaux connexes\, les troubles du mouvement hyperkinétique et les anomalies du tonus musculaire et du contrôle moteur. MDS fonctionne exclusivement à des fins scientifiques\, savantes et éducatives. \nLe 29 novembre 2022 sera la première journée mondiale dédiée aux mouvements anormaux\, date choisie pour honorer la date de naissance du neurologue français Jean Martin Charcot\, qui est considéré par beaucoup comme ayant une influence déterminante dans l’étude des troubles du mouvement. \nL’International Parkinson and Movement Disorder Society organise un webinaire\, le 29 novembre à 18h00\, avec la participation d’experts mondiaux\, inscription en suivant ce lien s’inscrire au webinaire MDS \n  \n  \n  \n 
URL:https://amadys.fr/agenda/29-novembre-2022-journee-mondiale-des-mouvements-anormaux/
CATEGORIES:Autres événements
ATTACH;FMTTYPE=image/png:https://amadys.fr/wp-content/uploads/2022/11/journee-mondiale-des-mouvements-anormaux.png
END:VEVENT
END:VCALENDAR