BEGIN:VCALENDAR
VERSION:2.0
PRODID:-//Amadys - ECPv6.15.18//NONSGML v1.0//EN
CALSCALE:GREGORIAN
METHOD:PUBLISH
X-WR-CALNAME:Amadys
X-ORIGINAL-URL:https://amadys.fr
X-WR-CALDESC:Évènements pour Amadys
REFRESH-INTERVAL;VALUE=DURATION:PT1H
X-Robots-Tag:noindex
X-PUBLISHED-TTL:PT1H
BEGIN:VTIMEZONE
TZID:Europe/Paris
BEGIN:DAYLIGHT
TZOFFSETFROM:+0100
TZOFFSETTO:+0200
TZNAME:CEST
DTSTART:20240331T010000
END:DAYLIGHT
BEGIN:STANDARD
TZOFFSETFROM:+0200
TZOFFSETTO:+0100
TZNAME:CET
DTSTART:20241027T010000
END:STANDARD
BEGIN:DAYLIGHT
TZOFFSETFROM:+0100
TZOFFSETTO:+0200
TZNAME:CEST
DTSTART:20250330T010000
END:DAYLIGHT
BEGIN:STANDARD
TZOFFSETFROM:+0200
TZOFFSETTO:+0100
TZNAME:CET
DTSTART:20251026T010000
END:STANDARD
BEGIN:DAYLIGHT
TZOFFSETFROM:+0100
TZOFFSETTO:+0200
TZNAME:CEST
DTSTART:20260329T010000
END:DAYLIGHT
BEGIN:STANDARD
TZOFFSETFROM:+0200
TZOFFSETTO:+0100
TZNAME:CET
DTSTART:20261025T010000
END:STANDARD
END:VTIMEZONE
BEGIN:VEVENT
DTSTART;VALUE=DATE:20250101
DTEND;VALUE=DATE:20260101
DTSTAMP:20260419T204152
CREATED:20241229T151237Z
LAST-MODIFIED:20250706T081649Z
UID:103623-1735689600-1767225599@amadys.fr
SUMMARY:Accueil des malades atteints de Dystonie - Clermont-Ferrand - 2025
DESCRIPTION:Accueil des malades atteints de dystonie ou de spasme hémifacial – Clermont-Ferrand  \nLes Délégués Auvergne se tiennent à la disposition des patients\, les jours des injections de toxine botulinique\, du lundi au vendredi\, en neurologie ou en ophtalmologie\, au CHU Gabriel – Montpied. \nIls sont disponibles pour venir à votre rencontre\, n’hésitez pas à les contacter. \n \nPour tout rendez-vous ou information\, vous pouvez contacter : \n     Sylvie Muzyka \n07 67 86 71 50 \nMichel D’Angelo \n06 95 23 31 73 \n  \n 
URL:https://amadys.fr/agenda/accueil-des-malades-atteints-de-dystonie-clermont-ferrand-2025/
LOCATION:58 rue Montalembert\, 63000 Clermont-Ferrand\, 58 rue Montalembert\, Clermont-Ferrand\, 63000\, France Métropolitaine
CATEGORIES:Permanences Amadys
ATTACH;FMTTYPE=image/jpeg:https://amadys.fr/wp-content/uploads/2017/03/clermont-place-de-la-victoire.jpg
ORGANIZER;CN="Amadys":MAILTO:secretariat.amadys@amadys.fr
END:VEVENT
BEGIN:VEVENT
DTSTART;VALUE=DATE:20250624
DTEND;VALUE=DATE:20251031
DTSTAMP:20260419T204152
CREATED:20250624T180859Z
LAST-MODIFIED:20250624T180859Z
UID:104464-1750723200-1761868799@amadys.fr
SUMMARY:Appel à projets AMADYS Dystonie - Breughel 2025
DESCRIPTION:APPEL À PROJETS\nSUBVENTION À LA RECHERCHE BREUGHEL 2025\nDonner un espoir aux personnes atteintes de dystonie ! \nL’Association des Malades Atteints de Dystonie (AMADYS) lance un appel à projets en recherche fondamentale et clinique dans le domaine de la dystonie auprès des scientifiques. La dotation de 100 000€ sera attribuée à un ou plusieurs projets de recherche. \nPlus d’informations : https://amadys.fr/prix_breughel/appel-a-projets-amadys-dystonie-breughel-2025/
URL:https://amadys.fr/agenda/appel-a-projets-amadys-dystonie-breughel-2025/
CATEGORIES:Autres événements
ATTACH;FMTTYPE=image/jpeg:https://amadys.fr/wp-content/uploads/2025/06/breughel-2025.jpg
ORGANIZER;CN="Amadys":MAILTO:secretariat.amadys@amadys.fr
END:VEVENT
BEGIN:VEVENT
DTSTART;VALUE=DATE:20250630
DTEND;VALUE=DATE:20250715
DTSTAMP:20260419T204152
CREATED:20250706T080906Z
LAST-MODIFIED:20250706T080906Z
UID:104481-1751241600-1752537599@amadys.fr
SUMMARY:Fermeture secrétariat 30/06 au 14/07/2025
DESCRIPTION:Le secrétariat sera en congés d’été du 30/06 au 14/07/2025. \nLes messages sur répondeur seront lus et les emails consultés. \nVotre équipe AMADYS
URL:https://amadys.fr/agenda/fermeture-secretariat-30-06-au-14-07-2025/
ATTACH;FMTTYPE=image/jpeg:https://amadys.fr/wp-content/uploads/2022/05/vacances-secretariat.jpg
END:VEVENT
BEGIN:VEVENT
DTSTART;TZID=Europe/Paris:20250711T090000
DTEND;TZID=Europe/Paris:20250711T110000
DTSTAMP:20260419T204152
CREATED:20250605T141721Z
LAST-MODIFIED:20250605T141721Z
UID:104390-1752224400-1752231600@amadys.fr
SUMMARY:Permanence Mulhouse - 11/07/2025
DESCRIPTION:Votre déléguée Alsace\, Froni Boeglin\, aura le plaisir de vous accueillir de 9h à 11h\, au CHU Emile Muller à Mulhouse. \nSa permanence se tient à la Maison des Usagers au RDC à gauche. \n  \nN’hésitez pas à lui rendre visite et à échanger ! \nVotre équipe AMADYS \n  \nPlus d’infos : Froni Boeglin\, 06 41 73 43 14\, froniboeglin.amadys68@gmail.com
URL:https://amadys.fr/agenda/permanence-mulhouse-11-07-2025/
LOCATION:CHU Emile Muller\, 20 avenue du docteur René Laennec\, Mulhouse\, 68100\, France
CATEGORIES:Permanences Amadys
ATTACH;FMTTYPE=image/jpeg:https://amadys.fr/wp-content/uploads/2024/09/ghr-mulhouse-emile-muller.jpg
ORGANIZER;CN="Amadys":MAILTO:secretariat.amadys@amadys.fr
END:VEVENT
BEGIN:VEVENT
DTSTART;TZID=Europe/Paris:20250721T133000
DTEND;TZID=Europe/Paris:20250721T143000
DTSTAMP:20260419T204152
CREATED:20250529T084317Z
LAST-MODIFIED:20250529T084317Z
UID:104354-1753104600-1753108200@amadys.fr
SUMMARY:Permanence Dijon- 21/07/2025
DESCRIPTION:Votre Déléguée\, Marie-France Festeau\, aura le plaisir de vous accueillir de 13h30 à 14h30\, au sein de l’Espace Associations\, local des représentants des usages\, rez-de-chaussée\, hall A du Bocage central\, entrée 9\, du CHU de DIJON – 14 rue Gaffarel.\n \n  \nN’hésitez pas à lui rendre visite et à échanger ! \nVotre équipe AMADYS \n 
URL:https://amadys.fr/agenda/permanence-dijon-21-07-2025/
LOCATION:CHU Dijon Bourgogne\, 14 rue Paul Gaffarel\, Dijon\, 21000\, France
CATEGORIES:Permanences Amadys
ATTACH;FMTTYPE=image/jpeg:https://amadys.fr/wp-content/uploads/2015/07/IMAGE-DIJON-1.jpg
ORGANIZER;CN="Amadys":MAILTO:secretariat.amadys@amadys.fr
END:VEVENT
END:VCALENDAR