BEGIN:VCALENDAR
VERSION:2.0
PRODID:-//Amadys - ECPv6.15.18//NONSGML v1.0//EN
CALSCALE:GREGORIAN
METHOD:PUBLISH
X-WR-CALNAME:Amadys
X-ORIGINAL-URL:https://amadys.fr
X-WR-CALDESC:Évènements pour Amadys
REFRESH-INTERVAL;VALUE=DURATION:PT1H
X-Robots-Tag:noindex
X-PUBLISHED-TTL:PT1H
BEGIN:VTIMEZONE
TZID:Europe/Paris
BEGIN:DAYLIGHT
TZOFFSETFROM:+0100
TZOFFSETTO:+0200
TZNAME:CEST
DTSTART:20240331T010000
END:DAYLIGHT
BEGIN:STANDARD
TZOFFSETFROM:+0200
TZOFFSETTO:+0100
TZNAME:CET
DTSTART:20241027T010000
END:STANDARD
BEGIN:DAYLIGHT
TZOFFSETFROM:+0100
TZOFFSETTO:+0200
TZNAME:CEST
DTSTART:20250330T010000
END:DAYLIGHT
BEGIN:STANDARD
TZOFFSETFROM:+0200
TZOFFSETTO:+0100
TZNAME:CET
DTSTART:20251026T010000
END:STANDARD
BEGIN:DAYLIGHT
TZOFFSETFROM:+0100
TZOFFSETTO:+0200
TZNAME:CEST
DTSTART:20260329T010000
END:DAYLIGHT
BEGIN:STANDARD
TZOFFSETFROM:+0200
TZOFFSETTO:+0100
TZNAME:CET
DTSTART:20261025T010000
END:STANDARD
END:VTIMEZONE
BEGIN:VEVENT
DTSTART;VALUE=DATE:20250101
DTEND;VALUE=DATE:20260101
DTSTAMP:20260420T014411
CREATED:20241229T151237Z
LAST-MODIFIED:20250706T081649Z
UID:103623-1735689600-1767225599@amadys.fr
SUMMARY:Accueil des malades atteints de Dystonie - Clermont-Ferrand - 2025
DESCRIPTION:Accueil des malades atteints de dystonie ou de spasme hémifacial – Clermont-Ferrand  \nLes Délégués Auvergne se tiennent à la disposition des patients\, les jours des injections de toxine botulinique\, du lundi au vendredi\, en neurologie ou en ophtalmologie\, au CHU Gabriel – Montpied. \nIls sont disponibles pour venir à votre rencontre\, n’hésitez pas à les contacter. \n \nPour tout rendez-vous ou information\, vous pouvez contacter : \n     Sylvie Muzyka \n07 67 86 71 50 \nMichel D’Angelo \n06 95 23 31 73 \n  \n 
URL:https://amadys.fr/agenda/accueil-des-malades-atteints-de-dystonie-clermont-ferrand-2025/
LOCATION:58 rue Montalembert\, 63000 Clermont-Ferrand\, 58 rue Montalembert\, Clermont-Ferrand\, 63000\, France Métropolitaine
CATEGORIES:Permanences Amadys
ATTACH;FMTTYPE=image/jpeg:https://amadys.fr/wp-content/uploads/2017/03/clermont-place-de-la-victoire.jpg
ORGANIZER;CN="Amadys":MAILTO:secretariat.amadys@amadys.fr
END:VEVENT
BEGIN:VEVENT
DTSTART;VALUE=DATE:20250624
DTEND;VALUE=DATE:20251031
DTSTAMP:20260420T014411
CREATED:20250624T180859Z
LAST-MODIFIED:20250624T180859Z
UID:104464-1750723200-1761868799@amadys.fr
SUMMARY:Appel à projets AMADYS Dystonie - Breughel 2025
DESCRIPTION:APPEL À PROJETS\nSUBVENTION À LA RECHERCHE BREUGHEL 2025\nDonner un espoir aux personnes atteintes de dystonie ! \nL’Association des Malades Atteints de Dystonie (AMADYS) lance un appel à projets en recherche fondamentale et clinique dans le domaine de la dystonie auprès des scientifiques. La dotation de 100 000€ sera attribuée à un ou plusieurs projets de recherche. \nPlus d’informations : https://amadys.fr/prix_breughel/appel-a-projets-amadys-dystonie-breughel-2025/
URL:https://amadys.fr/agenda/appel-a-projets-amadys-dystonie-breughel-2025/
CATEGORIES:Autres événements
ATTACH;FMTTYPE=image/jpeg:https://amadys.fr/wp-content/uploads/2025/06/breughel-2025.jpg
ORGANIZER;CN="Amadys":MAILTO:secretariat.amadys@amadys.fr
END:VEVENT
BEGIN:VEVENT
DTSTART;TZID=Europe/Paris:20251002T140000
DTEND;TZID=Europe/Paris:20251002T150000
DTSTAMP:20260420T014411
CREATED:20250529T084439Z
LAST-MODIFIED:20250529T084439Z
UID:104355-1759413600-1759417200@amadys.fr
SUMMARY:Permanence Dijon- 2/10/2025
DESCRIPTION:Votre Déléguée\, Marie-France Festeau\, aura le plaisir de vous accueillir de 14h à 15h\, au sein de l’Espace Associations\, local des représentants des usages\, rez-de-chaussée\, hall A du Bocage central\, entrée 9\, du CHU de DIJON – 14 rue Gaffarel.\n \n  \nN’hésitez pas à lui rendre visite et à échanger ! \nVotre équipe AMADYS \n 
URL:https://amadys.fr/agenda/permanence-dijon-2-10-2025/
LOCATION:CHU Dijon Bourgogne\, 14 rue Paul Gaffarel\, Dijon\, 21000\, France
CATEGORIES:Permanences Amadys
ATTACH;FMTTYPE=image/jpeg:https://amadys.fr/wp-content/uploads/2015/07/IMAGE-DIJON-1.jpg
ORGANIZER;CN="Amadys":MAILTO:secretariat.amadys@amadys.fr
END:VEVENT
BEGIN:VEVENT
DTSTART;TZID=Europe/Paris:20251004T100000
DTEND;TZID=Europe/Paris:20251004T180000
DTSTAMP:20260420T014411
CREATED:20251001T132809Z
LAST-MODIFIED:20251001T132809Z
UID:104567-1759572000-1759600800@amadys.fr
SUMMARY:Salon bien-être et santé 2025 - Coudekerque Branche - 4/10/2025
DESCRIPTION:Le samedi 4 octobre 2025\, Danye Chalon\, déléguée AMADYS Nord-Pas-de-Calais\, vous accueillera sur son stand\, au salon bien-être et santé\, organisé par la Ville de Coudekerque-Branche\, de 10h à 18h\, à l’espace Jean Vilar\, place de l’Hôtel de Ville.\nElle sera accompagnée de Christine Favier\, adhérente et ancienne déléguée. \nElles vous y attendent nombreux ! \n  \n			\n				\n					\n						\n							\n							En cours de chargement…\n						\n					\n					\n						\n							\n							Cela prend trop de temps ?\n						\n						\n								 Recharger le document							\n							|\n							\n								 Ouvrir dans un nouvel onglet							\n					\n				\n			\n		\n  \nVotre équipe AMADYS
URL:https://amadys.fr/agenda/salon-bien-etre-et-sante-2025-coudekerque-branche-4-10-2025/
LOCATION:Espace Jean Vilar\, Place de l'Hôtel de Ville\, Coudekerque-Branche\, 59210\, France
CATEGORIES:Autres événements
ATTACH;FMTTYPE=image/png:https://amadys.fr/wp-content/uploads/2025/10/salon-bien-etre-2025.png
END:VEVENT
BEGIN:VEVENT
DTSTART;TZID=Europe/Paris:20251007T143000
DTEND;TZID=Europe/Paris:20251007T170000
DTSTAMP:20260420T014411
CREATED:20251001T135159Z
LAST-MODIFIED:20251001T135159Z
UID:104574-1759847400-1759856400@amadys.fr
SUMMARY:Rencontre "dyscafé" Bretagne Finistère Brest 7/10/2025
DESCRIPTION:Liliane Picard\, déléguée Bretagne\, vous propose un petit café : \nLe mardi 7 octobre 2025 à partir de 14h30 \nLieu : \nCafétaria de l’hôpital Morvan\n2 Avenue Foch\, 29200 Brest \nVenez profiter de ce moment pour vous rencontrer\, parler de tous les sujets concernant la dystonie\, dans une ambiance conviviale et décontractée ! \nPour informer Liliane de votre présence : \n\n\n                \n                        Nom*Prénom*Email*TéléphoneAdhérent Amadys ?*\n			\n				\n				Oui\n			\n			\n				\n				Non\n			Nombre de participants ?*Message\n          \n            \n            \n            \n            \n            \n            \n            \n            \n            \n            \n            \n            \n            \n        \n                        \n                        \n\nEn parlez\, c’est déjà aider !
URL:https://amadys.fr/agenda/rencontre-dyscafe-bretagne-finistere-brest-7-10-2025/
LOCATION:Hôpital Morvan\, 2 Avenue Maréchal Foch\, Brest\, 29200\, France
CATEGORIES:Réunions de patients
ATTACH;FMTTYPE=image/png:https://amadys.fr/wp-content/uploads/2025/10/dyscafe.png
ORGANIZER;CN="Amadys":MAILTO:secretariat.amadys@amadys.fr
END:VEVENT
BEGIN:VEVENT
DTSTART;TZID=Europe/Paris:20251011T093000
DTEND;TZID=Europe/Paris:20251011T123000
DTSTAMP:20260420T014411
CREATED:20250731T081041Z
LAST-MODIFIED:20250731T081041Z
UID:104508-1760175000-1760185800@amadys.fr
SUMMARY:Rencontre régionale Rhône-Alpes Lyon 11/10/2025
DESCRIPTION:Rencontre Régionale Rhône-Alpes\nAdhérents – malades atteints de dystonie\n– parents – aidants \nSamedi 11 octobre 2025 de 9h30 à 12h30 à LYON \nBéatrice Liard et Michel Lévêque\, Délégués Régionaux AMADYS de Rhône-Alpes\, ont le plaisir de vous inviter à une rencontre en toute simplicité et dans la bonne humeur\, afin d’échanger entre adhérents\, malades\, parents\, aidants\, dans un espace accessible à tous\, le samedi 11 octobre de 9h30 à 12h30 (accueil café à 9h)\, à l’hôpital neurologique Pierre Wertheimer à Bron. \nIls organisent cette rencontre pratiquement dans le même lieu que celle de l’an passé\, soit au 6éme étage de l’hôpital\, dans une salle de réunion\, la salle Claude LAPRAS\, prévue pour une trentaine de personnes. Pour ceux d’entre vous qui étaient présents à leur réunion en 2024\, cette salle se situe en face de l’amphi neuro où vous vous étiez retrouvés. \nCette invitation s’adresse à toute personne concernée par la dystonie ou le spasme hémifacial (malades\, proches de malades\, adhérents ou non de l’association). \nVenez nombreux les rencontrer et échanger\, pour mieux connaître la dystonie !\n« En parler\, c’est déjà aider ! » \nLieu : \nHôpital neurologique Pierre Wertheimer à BRON (69500).\nSalle Claude LAPRAS\, au 6ème étage en neurologie\, depuis l’entrée B \nMoyen d’accès :\n• En Bus ou Tramway : C8 C9 T6\n• En voiture\, soit entrée périphérique Laurent Bonnevay\, soit entrée 59\, Boulevard Pinel\n• Plan et accès hôpital neurologique Wertheimer : https://www.chu-lyon.fr/groupement-hospitalier-est-plan-et-informations-pratiques \n \nInscriptions obligatoires au choix avant le lundi 15/09 :\n• par téléphone en contactant un de ces deux délégués \n– Béatrice LIARD au 06 71 61 60 72 ou liard.beatrice@orange.fr \n– Michel LEVEQUE au 04 78 80 17 05 ou 06 85 22 14 90 (de 8h à 20h) ou michel.leveque@amadys.fr \n• sur le formulaire d’inscriptions ci-après en précisant votre nom et le nombre de participants : \n\n                \n                        Nom*Prénom*Email*TéléphoneAdhérent Amadys ?*\n			\n				\n				Oui\n			\n			\n				\n				Non\n			Nombre de participants ?*Message
URL:https://amadys.fr/agenda/rencontre-regionale-rhone-alpes-lyon-11-10-2025/
LOCATION:Hôpital neurologique Pierre Wertheimer\, 59 boulevard Pinel\, Bron\, 69500\, France
CATEGORIES:Réunions de patients
ATTACH;FMTTYPE=image/jpeg:https://amadys.fr/wp-content/uploads/2025/07/chu-lyon.jpg
ORGANIZER;CN="Amadys":MAILTO:secretariat.amadys@amadys.fr
END:VEVENT
BEGIN:VEVENT
DTSTART;TZID=Europe/Paris:20251016T143000
DTEND;TZID=Europe/Paris:20251016T163000
DTSTAMP:20260420T014411
CREATED:20251015T115531Z
LAST-MODIFIED:20251015T115800Z
UID:104606-1760625000-1760632200@amadys.fr
SUMMARY:Rencontre "dyscafé" Bretagne Rennes 16/10/2025
DESCRIPTION:Bernard Pauvert et Laurence\, Liliane Picard\, Hervé Sibille\, délégués Bretagne\, vous proposent un petit café : \nLe jeudi 16 octobre 2025 à partir de 14h30 \nLieu : \nCafé restaurant le RENATA PIZZA DEL ARTE\nEsplanade Charles De Gaulle \nRennes \nVenez profiter de ce moment pour vous rencontrer\, parler de tous les sujets concernant la dystonie\, dans une ambiance conviviale et décontractée ! \nPour informer Liliane de votre présence : \n\n                \n                        Nom*Prénom*Email*TéléphoneAdhérent Amadys ?*\n			\n				\n				Oui\n			\n			\n				\n				Non\n			Nombre de participants ?*Message\n          \n            \n            \n            \n            \n            \n            \n            \n            \n            \n            \n            \n            \n            \n        \n                        \n                        \n\nEn parlez\, c’est déjà aider !
URL:https://amadys.fr/agenda/rencontre-dyscafe-bretagne-rennes-16-10-2025/
LOCATION:Renata Pizza del Arte\, Esplanade Charles de Gaulle\, Rennes\, 35000\, France
CATEGORIES:Réunions de patients
ATTACH;FMTTYPE=image/png:https://amadys.fr/wp-content/uploads/2025/10/cafe.png
ORGANIZER;CN="Amadys":MAILTO:secretariat.amadys@amadys.fr
END:VEVENT
BEGIN:VEVENT
DTSTART;TZID=Europe/Paris:20251020T133000
DTEND;TZID=Europe/Paris:20251020T170000
DTSTAMP:20260420T014411
CREATED:20250530T165300Z
LAST-MODIFIED:20251013T181954Z
UID:104370-1760967000-1760979600@amadys.fr
SUMMARY:Annulée - Permanence Lyon - 20/10/2025
DESCRIPTION:Cette date de permanence est annulée. Rencontrez vos délégués lors de leur rencontre entre malades ou aux dates.\nMerci de votre compréhension. \nVos délégués du Rhône\, Béatrice Liard et Michel Lévêque\, auront le plaisir de vous accueillir de 13h30 à 17h. \nLeurs permanences se tiennent au cinquième étage\, entrée A\, service EMG de l’hôpital neurologique. \n  \nN’hésitez pas à leur rendre visite et à échanger ! \nVotre équipe AMADYS \n  \nPlus d’infos : Béatrice Liard\, 06 71 61 60 72\, liard.beatrice@orange.fr
URL:https://amadys.fr/agenda/annulee-permanence-lyon-20-10-2025/
LOCATION:Hôpital Neurologique\, 59 Boulevard Pinel\, Lyon Bron\, 69677\, France
CATEGORIES:Permanences Amadys
ATTACH;FMTTYPE=image/jpeg:https://amadys.fr/wp-content/uploads/2017/01/Photo-Ville-de-Lyon-720x340-624x295.jpg
ORGANIZER;CN="Amadys":MAILTO:secretariat.amadys@amadys.fr
END:VEVENT
END:VCALENDAR