BEGIN:VCALENDAR
VERSION:2.0
PRODID:-//Amadys - ECPv6.15.18//NONSGML v1.0//EN
CALSCALE:GREGORIAN
METHOD:PUBLISH
X-ORIGINAL-URL:https://amadys.fr
X-WR-CALDESC:Évènements pour Amadys
REFRESH-INTERVAL;VALUE=DURATION:PT1H
X-Robots-Tag:noindex
X-PUBLISHED-TTL:PT1H
BEGIN:VTIMEZONE
TZID:Europe/Paris
BEGIN:DAYLIGHT
TZOFFSETFROM:+0100
TZOFFSETTO:+0200
TZNAME:CEST
DTSTART:20240331T010000
END:DAYLIGHT
BEGIN:STANDARD
TZOFFSETFROM:+0200
TZOFFSETTO:+0100
TZNAME:CET
DTSTART:20241027T010000
END:STANDARD
BEGIN:DAYLIGHT
TZOFFSETFROM:+0100
TZOFFSETTO:+0200
TZNAME:CEST
DTSTART:20250330T010000
END:DAYLIGHT
BEGIN:STANDARD
TZOFFSETFROM:+0200
TZOFFSETTO:+0100
TZNAME:CET
DTSTART:20251026T010000
END:STANDARD
BEGIN:DAYLIGHT
TZOFFSETFROM:+0100
TZOFFSETTO:+0200
TZNAME:CEST
DTSTART:20260329T010000
END:DAYLIGHT
BEGIN:STANDARD
TZOFFSETFROM:+0200
TZOFFSETTO:+0100
TZNAME:CET
DTSTART:20261025T010000
END:STANDARD
END:VTIMEZONE
BEGIN:VEVENT
DTSTART;VALUE=DATE:20250101
DTEND;VALUE=DATE:20260101
DTSTAMP:20260420T032648
CREATED:20241229T151237Z
LAST-MODIFIED:20250706T081649Z
UID:103623-1735689600-1767225599@amadys.fr
SUMMARY:Accueil des malades atteints de Dystonie - Clermont-Ferrand - 2025
DESCRIPTION:Accueil des malades atteints de dystonie ou de spasme hémifacial – Clermont-Ferrand  \nLes Délégués Auvergne se tiennent à la disposition des patients\, les jours des injections de toxine botulinique\, du lundi au vendredi\, en neurologie ou en ophtalmologie\, au CHU Gabriel – Montpied. \nIls sont disponibles pour venir à votre rencontre\, n’hésitez pas à les contacter. \n \nPour tout rendez-vous ou information\, vous pouvez contacter : \n     Sylvie Muzyka \n07 67 86 71 50 \nMichel D’Angelo \n06 95 23 31 73 \n  \n 
URL:https://amadys.fr/agenda/accueil-des-malades-atteints-de-dystonie-clermont-ferrand-2025/
LOCATION:58 rue Montalembert\, 63000 Clermont-Ferrand\, 58 rue Montalembert\, Clermont-Ferrand\, 63000\, France Métropolitaine
CATEGORIES:Permanences Amadys
ATTACH;FMTTYPE=image/jpeg:https://amadys.fr/wp-content/uploads/2017/03/clermont-place-de-la-victoire.jpg
ORGANIZER;CN="Amadys":MAILTO:secretariat.amadys@amadys.fr
END:VEVENT
BEGIN:VEVENT
DTSTART;TZID=Europe/Paris:20251108T140000
DTEND;TZID=Europe/Paris:20251108T153000
DTSTAMP:20260420T032648
CREATED:20251015T112523Z
LAST-MODIFIED:20251015T112523Z
UID:104602-1762610400-1762615800@amadys.fr
SUMMARY:Réunion Visio Dystonie de l'Enfant 8/11/2025
DESCRIPTION:Les délégués du groupe AMADYS « Dystonie de l’Enfant »\, Fabienne Maillet et Laurent Bourgoin\, vous invitent à une rencontre en Visio le :\nSAMEDI 8 NOVEMBRE à 14h \nCette réunion permettra d’accueillir les nouvelles familles qui ont rejoint Amadys cette année\, d’échanger sur la maladie\, les traitements\, les prises en charge médicales ou paramédicales\, l’intégration en milieu scolaire\, les difficultés ou victoires au quotidien\, ou tout autre sujet que vous souhaiteriez aborder. \nElle est également ouverte aux familles non adhérentes. \nPour vous inscrire et recevoir le lien de connexion en Visio\, merci de les contacter à l’adresse : dystoenfant@amadys.fr avant le 5/11 au plus tard.
URL:https://amadys.fr/agenda/reunion-visio-dystonie-de-lenfant-8-11-2025/
CATEGORIES:Réunions de patients
ATTACH;FMTTYPE=image/jpeg:https://amadys.fr/wp-content/uploads/2018/10/amadys-dystonie-de-lenfant-avec-i.jpg
ORGANIZER;CN="Amadys":MAILTO:secretariat.amadys@amadys.fr
END:VEVENT
BEGIN:VEVENT
DTSTART;TZID=Europe/Paris:20251108T140000
DTEND;TZID=Europe/Paris:20251108T180000
DTSTAMP:20260420T032648
CREATED:20250928T144321Z
LAST-MODIFIED:20250928T144321Z
UID:104556-1762610400-1762624800@amadys.fr
SUMMARY:Rencontre régionale adhérents Auvergne 8/11/2025
DESCRIPTION:AMADYS a le plaisir de vous inviter à une rencontre entre adhérents\, malades\, parents\, aidants\, des quatre départements d’Auvergne (03\,15\, 43\, 63)\, animée par vos délégués\, Michel D’Angelo et Sylvie Muzyka\, à Pont-du-Château. \nDate : samedi 8 novembre 2025 de 14h à 18h \nLe but de ces réunions est de se rencontrer\, si ce n’est déjà fait\, et d’échanger sur la dystonie\, l’Association ou tout autre sujet de votre choix…\nCette réunion permettra à tous d’enrichir ses connaissances et de partager ses expériences pour mieux vivre avec la dystonie. \nLe verre de l’amitié animera/clôturera cette réunion conviviale. \n  \nLieu : \nMairie de Pont-du-Château\nPlace de L Hôtel de ville\n63430 Pont-du-Château \nPossibilité de stationnement gratuit sur le parking de la Mairie. \nInscription souhaitée en cliquant sur le formulaire suivant\nSi vous avez des sujets que vous souhaitez aborder\, merci de le préciser\, ceci pour la préparation de notre ordre du jour\, ainsi que votre email\, votre téléphone et le nombre d’accompagnants : \n\n                \n                        \n                            Réunion malades Auvergne 8nov25\n                             \n                        \n                        Nom*Prénom*Email*TéléphoneAdhérent Amadys ?*\n			\n				\n				Oui\n			\n			\n				\n				Non\n			Nombre de participants ?*Message\n          \n            \n            \n            \n            \n            \n            \n            \n            \n            \n            \n            \n            \n            \n        \n                        \n                        \n\n \n  \nsylvie.muzyka.amadys63@gmail.com\, 07 67 86 71 50\,\nmichel.dangelo@amadys.fr\, 06 95 23 31 73 \n  \nPour rappel\, Sylvie et Michel restent à votre disposition pour venir à votre rencontre les jours de vos injections au CHU de Clermont-Ferrand\, il suffit de contacter l’un des deux\, une ou deux semaines avant pour prendre rendez-vous.
URL:https://amadys.fr/agenda/rencontre-regionale-adherents-auvergne-8-11-2025/
LOCATION:mairie pont-du-château\, Place de l'Hôtel de Ville\, Pont-du-Château\, 63430\, France
CATEGORIES:Réunions de patients
ATTACH;FMTTYPE=image/jpeg:https://amadys.fr/wp-content/uploads/2018/02/pont-du-chateau_-_chateau-mairie_-747-scaled.jpg
ORGANIZER;CN="Amadys":MAILTO:secretariat.amadys@amadys.fr
END:VEVENT
BEGIN:VEVENT
DTSTART;TZID=Europe/Paris:20251117T133000
DTEND;TZID=Europe/Paris:20251117T170000
DTSTAMP:20260420T032648
CREATED:20250530T165552Z
LAST-MODIFIED:20250530T165552Z
UID:104371-1763386200-1763398800@amadys.fr
SUMMARY:Permanence Lyon - 17/11/2025
DESCRIPTION:Vos délégués du Rhône\, Béatrice Liard et Michel Lévêque\, auront le plaisir de vous accueillir de 13h30 à 17h. \nLeurs permanences se tiennent au cinquième étage\, entrée A\, service EMG de l’hôpital neurologique. \n  \nN’hésitez pas à leur rendre visite et à échanger ! \nVotre équipe AMADYS \n  \nPlus d’infos : Béatrice Liard\, 06 71 61 60 72\, liard.beatrice@orange.fr
URL:https://amadys.fr/agenda/permanence-lyon-17-11-2025/
LOCATION:Hôpital Neurologique\, 59 Boulevard Pinel\, Lyon Bron\, 69677\, France
CATEGORIES:Permanences Amadys
ATTACH;FMTTYPE=image/jpeg:https://amadys.fr/wp-content/uploads/2017/01/Photo-Ville-de-Lyon-720x340-624x295.jpg
ORGANIZER;CN="Amadys":MAILTO:secretariat.amadys@amadys.fr
END:VEVENT
END:VCALENDAR